BEGIN:VCALENDAR
VERSION:2.0
PRODID:-//ChamberMaster//Event Calendar 2.0//EN
METHOD:PUBLISH
X-PUBLISHED-TTL:P3D
REFRESH-INTERVAL:P3D
CALSCALE:GREGORIAN
BEGIN:VEVENT
DTSTART:20211106T140000Z
DTEND:20211106T170000Z
X-MICROSOFT-CDO-ALLDAYEVENT:FALSE
SUMMARY:Market in the Park Friends of Topsail Hill Preserve State Park
DESCRIPTION:Market in the Park
X-ALT-DESC;FMTTYPE=text/html:Market in the Park
LOCATION:Friends of Topsail Hill Preserve State Park
UID:e.885.32591
SEQUENCE:3
DTSTAMP:20260423T044555Z
URL:https://business.waltonareachamber.com/events/details/market-in-the-park-friends-of-topsail-hill-preserve-state-park-32591
END:VEVENT

END:VCALENDAR
