BEGIN:VCALENDAR
VERSION:2.0
PRODID:-//ChamberMaster//Event Calendar 2.0//EN
METHOD:PUBLISH
X-PUBLISHED-TTL:P3D
REFRESH-INTERVAL:P3D
CALSCALE:GREGORIAN
BEGIN:VEVENT
DTSTART:20220506T130000Z
DTEND:20220506T140000Z
X-MICROSOFT-CDO-ALLDAYEVENT:FALSE
SUMMARY:May 2022 First Friday Networking Breakfast
DESCRIPTION:Register now for the May 2022 First Friday Networking Breakfast at Blackstone Golf Course.
X-ALT-DESC;FMTTYPE=text/html:Register now for the May 2022 First Friday Networking Breakfast at Blackstone Golf Course.&nbsp\;
LOCATION:Blackstone Golf Course 108 Blackstone Ln\, DeFuniak Springs\, FL 32433
UID:e.885.33270
SEQUENCE:3
DTSTAMP:20260423T142643Z
URL:https://business.waltonareachamber.com/events/details/may-2022-first-friday-networking-breakfast-33270
END:VEVENT

END:VCALENDAR
