BEGIN:VCALENDAR
VERSION:2.0
PRODID:-//ChamberMaster//Event Calendar 2.0//EN
METHOD:PUBLISH
X-PUBLISHED-TTL:P3D
REFRESH-INTERVAL:P3D
CALSCALE:GREGORIAN
BEGIN:VEVENT
DTSTART:20210507T123000Z
DTEND:20210507T140000Z
X-MICROSOFT-CDO-ALLDAYEVENT:FALSE
SUMMARY:May First Friday Breakfast Sponsored by Walton County Emergency Management
DESCRIPTION:Join us for our May First Friday Breakfast\, sponsored by the Walton County Emergency Management. Hear from Brock Long\, Executive Chairman\, Hagerty Consulting\, Inc. Former Administrator\, Federal Emergency Management Agency. His presentation will be\, "Reach for Resilience: Ways to Reduce the Costs and Impacts of Disasters."
X-ALT-DESC;FMTTYPE=text/html:<span style="color:#000080\;"><strong><span style="font-family:arial\;"><span style="font-size:20px\;">Join us for our May First Friday Breakfast\, sponsored by the Walton County Emergency Management. Hear from Brock Long\, Executive Chairman\, Hagerty Consulting\, Inc. Former Administrator\, Federal Emergency Management Agency. His presentation will be\, &quot\;Reach for Resilience: Ways to Reduce the Costs and Impacts of Disasters.&quot\;</span></span></strong></span>
LOCATION:Walton County Emergency Management. 75 S Davis Ln\, DeFuniak Springs\, FL 32435
UID:e.885.30049
SEQUENCE:3
DTSTAMP:20260422T142615Z
URL:https://business.waltonareachamber.com/events/details/may-first-friday-breakfast-sponsored-by-walton-county-emergency-management-30049
END:VEVENT

END:VCALENDAR
