BEGIN:VCALENDAR
VERSION:2.0
PRODID:-//ChamberMaster//Event Calendar 2.0//EN
METHOD:PUBLISH
X-PUBLISHED-TTL:P3D
REFRESH-INTERVAL:P3D
CALSCALE:GREGORIAN
BEGIN:VEVENT
DTSTART;VALUE=DATE:20220201
DTEND;VALUE=DATE:20220202
TRANSP:TRANSPARENT
X-MICROSOFT-CDO-ALLDAYEVENT:TRUE
SUMMARY:McLean's Florist & Gifts 30 Year Anniversary
DESCRIPTION:Cheers to 30 Years! Join us to celebrate 30 Years of Ownership where there will be\n\n30% off Purchases\, Refreshments\, Giveaways &\n\nScoops\, Sweets & Treats Food Truck
X-ALT-DESC;FMTTYPE=text/html:Cheers to 30 Years! Join us to celebrate 30 Years of Ownership where there will be<br />\n30% off Purchases\, Refreshments\, Giveaways &amp\;<br />\nScoops\, Sweets &amp\; Treats Food Truck
LOCATION:161 Highway 83 DeFuniak Springs\, FL 32433
UID:e.885.33298
SEQUENCE:3
DTSTAMP:20260423T112406Z
URL:https://business.waltonareachamber.com/events/details/mclean-s-florist-gifts-30-year-anniversary-33298
END:VEVENT

END:VCALENDAR
