BEGIN:VCALENDAR
VERSION:2.0
PRODID:-//ChamberMaster//Event Calendar 2.0//EN
METHOD:PUBLISH
X-PUBLISHED-TTL:P3D
REFRESH-INTERVAL:P3D
CALSCALE:GREGORIAN
BEGIN:VEVENT
DTSTART:20210526T140000Z
DTEND:20210526T150000Z
X-MICROSOFT-CDO-ALLDAYEVENT:FALSE
SUMMARY:Meet and Greet with DBPR Secretary Julie Brown
DESCRIPTION:Join Florida Restaurant and Lodging Association Northwest Florida Chapter in partnership with the Walton Area Chamber at the Hilton Sandestin Beach Golf Resort & Spa. DBPR Secretary Julie Brown will share post session thoughts and the direction of the department as we begin to transition out of COVID. A Meet & Greet with Secretary Brown will follow the discussion. Light refreshments will be served. A special thank you to Hilton Sandestin Beach Golf Resort & Spa for hosting us.
X-ALT-DESC;FMTTYPE=text/html:<span style="font-size:14px\;"><span style="font-family:arial\;">Join Florida Restaurant and Lodging Association Northwest Florida Chapter in partnership with the Walton Area Chamber at the Hilton Sandestin Beach Golf Resort &amp\; Spa. DBPR Secretary Julie Brown will share post session thoughts and the direction of the department as we begin to transition out of COVID. A Meet &amp\; Greet with Secretary Brown will follow the discussion. Light refreshments will be served. A special thank you to Hilton Sandestin Beach Golf Resort &amp\; Spa for hosting us.</span></span>
LOCATION:Hilton Sandestin Beach Golf Resort & Spa 4000 Sandestin Blvd. South Miramar Beach\, Florida
UID:e.885.31104
SEQUENCE:3
DTSTAMP:20260422T142919Z
URL:https://business.waltonareachamber.com/events/details/meet-and-greet-with-dbpr-secretary-julie-brown-31104
END:VEVENT

END:VCALENDAR
