BEGIN:VCALENDAR
VERSION:2.0
PRODID:-//ChamberMaster//Event Calendar 2.0//EN
METHOD:PUBLISH
X-PUBLISHED-TTL:P3D
REFRESH-INTERVAL:P3D
CALSCALE:GREGORIAN
BEGIN:VEVENT
DTSTART:20220315T050000Z
DTEND:20220315T180000Z
X-MICROSOFT-CDO-ALLDAYEVENT:FALSE
SUMMARY:Member Healthcare Benefit Program Lunch & Learn
DESCRIPTION:YOU'VE ASKED...\n\nWE HAVE THE ANSWER!\n\nAffordable group health benefits represent\n\none of the top challenges for our members and\n\nwe have a solution! The Walton Area\n\nChamber of Commerce provides\n\nmembers with a unique\, ACA-compliant\,\n\ngroup health benefits solution designed to\n\nreduce the Total Cost of Ownership of\n\nyour health and wellness plans.\n\n\n\nJoin us on Tuesday to Learn More!
X-ALT-DESC;FMTTYPE=text/html:YOU&rsquo\;VE ASKED...<br />\nWE HAVE THE ANSWER!<br />\nAffordable group health benefits represent<br />\none of the top challenges for our members and<br />\nwe have a solution! The Walton Area<br />\nChamber of Commerce provides<br />\nmembers with a unique\, ACA-compliant\,<br />\ngroup health benefits solution designed to<br />\nreduce the Total Cost of Ownership of<br />\nyour health and wellness plans.<br />\n<br />\nJoin us on Tuesday to Learn More!
LOCATION:Walton Area Chamber Santa Rosa Beach Office
UID:e.885.33590
SEQUENCE:3
DTSTAMP:20260423T111335Z
URL:https://business.waltonareachamber.com/events/details/member-healthcare-benefit-program-lunch-learn-33590
END:VEVENT

END:VCALENDAR
