BEGIN:VCALENDAR
VERSION:2.0
PRODID:-//ChamberMaster//Event Calendar 2.0//EN
METHOD:PUBLISH
X-PUBLISHED-TTL:P3D
REFRESH-INTERVAL:P3D
CALSCALE:GREGORIAN
BEGIN:VEVENT
DTSTART:20210930T210000Z
DTEND:20211001T000000Z
X-MICROSOFT-CDO-ALLDAYEVENT:FALSE
SUMMARY:Mentoring Emerald Coast Recruitment Mixer and Fundraiser
DESCRIPTION:Mark your calendars for our Mentoring Emerald Coast Recruitment Mixer at Stephen and Joan Carter's condo on Thursday\, September 30 at 4:00 p.m.!\n\n \n\nNo matter your age or career stage\, whether you're looking to increase your management capacity or to start or grow your own business\, the Mentoring Emerald Coast program has a place perfect for you.
X-ALT-DESC;FMTTYPE=text/html:<span style="font-family: arial\, sans-serif\;"><span style="font-size: 10.5pt\;"><font color="#00285e">Mark your calendars for our </font><font color="#002f6f">Mentoring Emerald Coast Recruitment Mixer</font></span></span><span style="color:#00285E\;"><span style="font-family:arial\,sans-serif\;"><span style="font-size:10.5pt\;">&nbsp\;at Stephen and Joan Carter&#39\;s condo on Thursday\, September 30 at 4:00 p.m.!</span></span></span><br />\n&nbsp\;<br />\n<span style="color:#00285E\;"><span style="font-family:arial\,sans-serif\;"><span style="font-size:10.5pt\;">No matter your age or career stage\, whether you&#39\;re looking to increase your management capacity or to start or grow your own business\, the Mentoring Emerald Coast program has a place perfect for you.</span></span></span>
LOCATION:15400 Emerald Coast Pkwy. Unit ph7a Destin\, FL
UID:e.885.32386
SEQUENCE:3
DTSTAMP:20260423T010632Z
URL:https://business.waltonareachamber.com/events/details/mentoring-emerald-coast-recruitment-mixer-and-fundraiser-32386
END:VEVENT

END:VCALENDAR
