BEGIN:VCALENDAR
VERSION:2.0
PRODID:-//ChamberMaster//Event Calendar 2.0//EN
METHOD:PUBLISH
X-PUBLISHED-TTL:P3D
REFRESH-INTERVAL:P3D
CALSCALE:GREGORIAN
BEGIN:VEVENT
DTSTART:20210320T220000Z
DTEND:20210321T000000Z
X-MICROSOFT-CDO-ALLDAYEVENT:FALSE
SUMMARY:Mermaids and Pirates at HarborWalk Village
DESCRIPTION:Ahoy Mateys! Seek hidden treasure and magic mermaids and be enchanted with a live performance by Captain Davy on the main stage. Every Saturday at 5:00 pm during Spring Break.\n\nLink: Mermaids & Pirates (facebook.com)
X-ALT-DESC;FMTTYPE=text/html:<p class="x_MsoNormal" style="margin: 0in\; font-size: 11pt\; font-family: Calibri\, sans-serif\; color: rgb(32\, 31\, 30)\;"><span style="font-size:14px\;"><span style="font-family:arial\;">&nbsp\;<span style="margin: 0px\; padding: 0px\; border: 0px\; font-style: inherit\; font-variant: inherit\; font-weight: inherit\; font-stretch: inherit\; line-height: inherit\; vertical-align: baseline\; color: rgb(51\, 51\, 51)\; background-image: initial\; background-position: initial\; background-size: initial\; background-repeat: initial\; background-attachment: initial\; background-origin: initial\; background-clip: initial\;">Ahoy Mateys! Seek hidden treasure and magic mermaids and be enchanted with a live performance by Captain Davy on the main stage. Every Saturday at 5:00 pm during Spring Break.</span></span></span></p>\n\n<p class="x_MsoNormal" style="margin: 0in\; font-size: 11pt\; font-family: Calibri\, sans-serif\; color: rgb(32\, 31\, 30)\;"><span style="font-size:14px\;"><span style="font-family:arial\;">Link:&nbsp\;</span></span><a href="https://www.facebook.com/events/151835493349360/">Mermaids &amp\; Pirates (facebook.com)</a></p>\n\n<p class="x_MsoNormal" style="margin: 0in\; font-size: 11pt\; font-family: Calibri\, sans-serif\; color: rgb(32\, 31\, 30)\;">&nbsp\;</p>\n
LOCATION:HarborWalk Village Destin\, FL
UID:e.885.29167
SEQUENCE:3
DTSTAMP:20260422T111119Z
URL:https://business.waltonareachamber.com/events/details/mermaids-and-pirates-at-harborwalk-village-29167
END:VEVENT

END:VCALENDAR
