BEGIN:VCALENDAR
VERSION:2.0
PRODID:-//ChamberMaster//Event Calendar 2.0//EN
METHOD:PUBLISH
X-PUBLISHED-TTL:P3D
REFRESH-INTERVAL:P3D
CALSCALE:GREGORIAN
BEGIN:VEVENT
DTSTART:20210520T230000Z
DTEND:20210521T020000Z
X-MICROSOFT-CDO-ALLDAYEVENT:FALSE
SUMMARY:MKAF presents "A Brother's Revival - an Allman Brothers Tribute"
DESCRIPTION:Enjoy a night under the stars at the most beautiful outdoor music venue on the Emerald Coast. Bring a bottle of wine\, your favorite craft beer\, some delicious snacks\, and a blanket or chair. Food and drinks are available for purchase! 6:00 pm   Doors open 7:00 pm   A Brother's Revival - an Allman Brothers Tribute Tickets can be purchased at the Door: General Admission $15 per adult\, FREE to MKAF members and kids under 12. Want to become an MKAF member? Learn more here: https://mkaf.org/membership/ A BROTHER'S REVIVAL - AN ALLMAN BROTHERS TRIBUTE A Brother's Revival came together in 2019 as a celebration of the 50th Anniversary of The Allman Brothers Band. Former member\, David Goldflies (78-82) and Mike Kach (singer /keyboard for Dickey Betts and Great Southern) joined forces to honor David's former band. It is the most authentic Allman Brothers Band tribute that includes the fan's favorite songs in their original format\, just as they were performed when David toured with Greg\, Dickey\, Butch and Jaimoe. The band typically does a 2 - 2.5 hour show (with break when requested) and a meet and greet with the audience following the audience.
X-ALT-DESC;FMTTYPE=text/html:<span style="font-size:14px\;"><span style="font-family:arial\;">Enjoy a night under the stars at the most beautiful outdoor music venue on the Emerald Coast. Bring a bottle of wine\, your favorite craft beer\, some delicious snacks\, and a blanket or chair. Food and drinks are available for purchase! 6:00 pm &ndash\; Doors open 7:00 pm &ndash\; A Brother&rsquo\;s Revival - an Allman Brothers Tribute Tickets can be purchased at the Door: General Admission $15 per adult\, FREE to MKAF members and kids under 12. Want to become an MKAF member? Learn more here: https://mkaf.org/membership/ A BROTHER&rsquo\;S REVIVAL - AN ALLMAN BROTHERS TRIBUTE A Brother&#39\;s Revival came together in 2019 as a celebration of the 50th Anniversary of The Allman Brothers Band. Former member\, David Goldflies (78-82) and Mike Kach (singer /keyboard for Dickey Betts and Great Southern) joined forces to honor David&#39\;s former band. It is the most authentic Allman Brothers Band tribute that includes the fan&#39\;s favorite songs in their original format\, just as they were performed when David toured with Greg\, Dickey\, Butch and Jaimoe. The band typically does a 2 - 2.5 hour show (with break when requested) and a meet and greet with the audience following the audience.</span></span>
LOCATION:Mattie Kelly Arts Foundation 4323 Commons Drive West Destin\, FL 32541
UID:e.885.30064
SEQUENCE:3
DTSTAMP:20260422T143155Z
URL:https://business.waltonareachamber.com/events/details/mkaf-presents-a-brother-s-revival-an-allman-brothers-tribute-30064
END:VEVENT

END:VCALENDAR
