BEGIN:VCALENDAR
VERSION:2.0
PRODID:-//ChamberMaster//Event Calendar 2.0//EN
METHOD:PUBLISH
X-PUBLISHED-TTL:P3D
REFRESH-INTERVAL:P3D
CALSCALE:GREGORIAN
BEGIN:VEVENT
DTSTART:20210527T230000Z
DTEND:20210528T020000Z
X-MICROSOFT-CDO-ALLDAYEVENT:FALSE
SUMMARY:MKAF presents Deana Carter in concert
DESCRIPTION:Enjoy a night under the stars at the most beautiful outdoor music venue on the Emerald Coast. Bring a bottle of wine\, your favorite craft beer\, some delicious snacks\, and a blanket or chair. Food and drinks are available for purchase! 6:00 pm   Doors open 7:00 pm   Deana Carter Tickets can be purchased at the Door: General Admission $15 per adult\, FREE to MKAF members and kids under 12. Want to become an MKAF member? Learn more here: https://mkaf.org/membership/ DEANA CARTER Drenched in sun-kissed natural beauty both inside and out\, Deana Carter didn't take a seemingly easy route to stardom\, but instead chose to defy the conventional expectations of the typical Nashville artist blueprint and make her own mark. And she did\, undeniably taking the industry and fans by storm with her wildly successful multi-platinum international debut Did I Shave My Legs For This? more than a decade ago. Anchored by the dreamy super hit "Strawberry Wine"\, Carter showcased her own blend of country and retro-rock sprinkled with the folksy singer/songwriter qualities that have garnered Deana Carter well-deserved respect and wild acclaim.
X-ALT-DESC;FMTTYPE=text/html:<span style="font-size:14px\;"><span style="font-family:arial\;">Enjoy a night under the stars at the most beautiful outdoor music venue on the Emerald Coast. Bring a bottle of wine\, your favorite craft beer\, some delicious snacks\, and a blanket or chair. Food and drinks are available for purchase! 6:00 pm &ndash\; Doors open 7:00 pm &ndash\; Deana Carter Tickets can be purchased at the Door: General Admission $15 per adult\, FREE to MKAF members and kids under 12. Want to become an MKAF member? Learn more here: https://mkaf.org/membership/ DEANA CARTER Drenched in sun-kissed natural beauty both inside and out\, Deana Carter didn&rsquo\;t take a seemingly easy route to stardom\, but instead chose to defy the conventional expectations of the typical Nashville artist blueprint and make her own mark. And she did\, undeniably taking the industry and fans by storm with her wildly successful multi-platinum international debut Did I Shave My Legs For This? more than a decade ago. Anchored by the dreamy super hit &ldquo\;Strawberry Wine&rdquo\;\, Carter showcased her own blend of country and retro-rock sprinkled with the folksy singer/songwriter qualities that have garnered Deana Carter well-deserved respect and wild acclaim.</span></span>
LOCATION:Mattie Kelly Arts Foundation 4323 Commons Drive West Destin\, FL 32541
UID:e.885.30065
SEQUENCE:3
DTSTAMP:20260422T142742Z
URL:https://business.waltonareachamber.com/events/details/mkaf-presents-deana-carter-in-concert-30065
END:VEVENT

END:VCALENDAR
