BEGIN:VCALENDAR
VERSION:2.0
PRODID:-//ChamberMaster//Event Calendar 2.0//EN
METHOD:PUBLISH
X-PUBLISHED-TTL:P3D
REFRESH-INTERVAL:P3D
CALSCALE:GREGORIAN
BEGIN:VEVENT
DTSTART:20210506T230000Z
DTEND:20210507T020000Z
X-MICROSOFT-CDO-ALLDAYEVENT:FALSE
SUMMARY:MKAF presents "Modern Eldorados"
DESCRIPTION:Enjoy a night under the stars at the most beautiful outdoor music venue on the Emerald Coast. Bring a bottle of wine\, your favorite craft beer\, some delicious snacks\, and a blanket or chair. Food and drinks are available for purchase! 6:00 pm   Doors open 7:00 pm   Modern Eldorados Tickets can be purchased at the Door: General Admission $15 per adult\, FREE to MKAF members and kids under 12. Want to become an MKAF member? Learn more here: https://mkaf.org/membership/ MODERN ELDORADOS: Cobwebs\, honky tonks\, a broken window and an empty bottle. Ethereal vocals. A conversation between a Gretsch White Falcon and a J-200\, lyrics on a napkin\, and a real Nudie suit....that's Tyron Lyles and the Modern Eldorados. Faron Young smiles down on this band. Tyron Lyles has consistently evolved the sound of The Modern Eldorados into a unique fusion of traditional rockabilly\, honky tonk\, and country. His Orbison-esque vocal styling is mated beautifully with a sound that resonates with a deep respect for his musical ancestors and a constant search for footing on a fragile sonic ground.
X-ALT-DESC;FMTTYPE=text/html:Enjoy a night under the stars at the most beautiful outdoor music venue on the Emerald Coast. Bring a bottle of wine\, your favorite craft beer\, some delicious snacks\, and a blanket or chair. Food and drinks are available for purchase! 6:00 pm &ndash\; Doors open 7:00 pm &ndash\; Modern Eldorados Tickets can be purchased at the Door: General Admission $15 per adult\, FREE to MKAF members and kids under 12. Want to become an MKAF member? Learn more here: https://mkaf.org/membership/ MODERN ELDORADOS: Cobwebs\, honky tonks\, a broken window and an empty bottle. Ethereal vocals. A conversation between a Gretsch White Falcon and a J-200\, lyrics on a napkin\, and a real Nudie suit....that&#39\;s Tyron Lyles and the Modern Eldorados. Faron Young smiles down on this band. Tyron Lyles has consistently evolved the sound of The Modern Eldorados into a unique fusion of traditional rockabilly\, honky tonk\, and country. His Orbison-esque vocal styling is mated beautifully with a sound that resonates with a deep respect for his musical ancestors and a constant search for footing on a fragile sonic ground.
LOCATION:Mattie Kelly Arts Foundation 4323 Commons Drive West Destin\, FL 32541
UID:e.885.30062
SEQUENCE:3
DTSTAMP:20260422T142431Z
URL:https://business.waltonareachamber.com/events/details/mkaf-presents-modern-eldorados-30062
END:VEVENT

END:VCALENDAR
