BEGIN:VCALENDAR
VERSION:2.0
PRODID:-//ChamberMaster//Event Calendar 2.0//EN
METHOD:PUBLISH
X-PUBLISHED-TTL:P3D
REFRESH-INTERVAL:P3D
CALSCALE:GREGORIAN
BEGIN:VEVENT
DTSTART:20210422T230000Z
DTEND:20210423T020000Z
X-MICROSOFT-CDO-ALLDAYEVENT:FALSE
SUMMARY:MKAF presents Sinfonia Gulf Coast Performing "The Music of Queen"
DESCRIPTION:Enjoy a night under the stars at the most beautiful outdoor music venue on the Emerald Coast. Bring a bottle of wine\, your favorite craft beer\, some delicious snacks\, and a blanket or chair. Food and drinks are available for purchase! 6:00 pm   Doors open 7:00 pm   Sinfonia Gulf Coast performing The Music of Queen with Conductor Brent Havens and Vocalist Brody Dolyniuk Tickets can be purchased at the Door: General Admission $25 per adult\, FREE to MKAF members and kids under 12. Want to become an MKAF member? Learn more here: https://mkaf.org/membership/
X-ALT-DESC;FMTTYPE=text/html:Enjoy a night under the stars at the most beautiful outdoor music venue on the Emerald Coast. Bring a bottle of wine\, your favorite craft beer\, some delicious snacks\, and a blanket or chair. Food and drinks are available for purchase! 6:00 pm &ndash\; Doors open 7:00 pm &ndash\; Sinfonia Gulf Coast performing The Music of Queen with Conductor Brent Havens and Vocalist Brody Dolyniuk Tickets can be purchased at the Door: General Admission $25 per adult\, FREE to MKAF members and kids under 12. Want to become an MKAF member? Learn more here: https://mkaf.org/membership/
LOCATION:Mattie Kelly Arts Foundation 4323 Commons Drive West Destin\, FL 32541
UID:e.885.30060
SEQUENCE:3
DTSTAMP:20260422T145038Z
URL:https://business.waltonareachamber.com/events/details/mkaf-presents-sinfonia-gulf-coast-performing-the-music-of-queen-30060
END:VEVENT

END:VCALENDAR
