BEGIN:VCALENDAR
VERSION:2.0
PRODID:-//ChamberMaster//Event Calendar 2.0//EN
METHOD:PUBLISH
X-PUBLISHED-TTL:P3D
REFRESH-INTERVAL:P3D
CALSCALE:GREGORIAN
BEGIN:VEVENT
DTSTART:20210617T230000Z
DTEND:20210618T020000Z
X-MICROSOFT-CDO-ALLDAYEVENT:FALSE
SUMMARY:MKAF presents "The Petty Hearts - Tom Petty Tribute"
DESCRIPTION:Enjoy a night under the stars at the most beautiful outdoor music venue on the Emerald Coast. Bring a bottle of wine\, your favorite craft beer\, some delicious snacks\, and a blanket or chair. Food and drinks are available for purchase! 6:00 pm   Doors open 7:00 pm   Petty Hearts - Tom Petty Tribute Tickets can be purchased at the Door: General Admission $15 per adult\, FREE to MKAF members and kids under 12. Want to become an MKAF member? Learn more here: https://mkaf.org/membership/ PETTY HEARTS - TOM PETTY TRIBUTE The Petty Hearts are a nationally touring Tom Petty tribute band celebrating the life and musical legacy of Tom Petty's amazing 40-year career in rock and roll. The Petty Hearts perform faithful renditions of Tom Petty and the Heartbreakers' extensive catalog including dozens of his best known Top 40 hits along with some deeper album cuts Petty rarely played live.
X-ALT-DESC;FMTTYPE=text/html:<span style="font-size:14px\;"><span style="font-family:arial\;">Enjoy a night under the stars at the most beautiful outdoor music venue on the Emerald Coast. Bring a bottle of wine\, your favorite craft beer\, some delicious snacks\, and a blanket or chair. Food and drinks are available for purchase! 6:00 pm &ndash\; Doors open 7:00 pm &ndash\; Petty Hearts - Tom Petty Tribute Tickets can be purchased at the Door: General Admission $15 per adult\, FREE to MKAF members and kids under 12. Want to become an MKAF member? Learn more here: https://mkaf.org/membership/ PETTY HEARTS - TOM PETTY TRIBUTE The Petty Hearts are a nationally touring Tom Petty tribute band celebrating the life and musical legacy of Tom Petty&rsquo\;s amazing 40-year career in rock and roll. The Petty Hearts perform faithful renditions of Tom Petty and the Heartbreakers&rsquo\; extensive catalog including dozens of his best known Top 40 hits along with some deeper album cuts Petty rarely played live.</span></span>
LOCATION:Mattie Kelly Arts Foundation 4323 Commons Drive West Destin\, FL 32541
UID:e.885.30068
SEQUENCE:3
DTSTAMP:20260422T200627Z
URL:https://business.waltonareachamber.com/events/details/mkaf-presents-the-petty-hearts-tom-petty-tribute-30068
END:VEVENT

END:VCALENDAR
