BEGIN:VCALENDAR
VERSION:2.0
PRODID:-//ChamberMaster//Event Calendar 2.0//EN
METHOD:PUBLISH
X-PUBLISHED-TTL:P3D
REFRESH-INTERVAL:P3D
CALSCALE:GREGORIAN
BEGIN:VEVENT
DTSTART:20210603T230000Z
DTEND:20210604T020000Z
X-MICROSOFT-CDO-ALLDAYEVENT:FALSE
SUMMARY:MKAF presents "The Tams" in concert
DESCRIPTION:Enjoy a night under the stars at the most beautiful outdoor music venue on the Emerald Coast. Bring a bottle of wine\, your favorite craft beer\, some delicious snacks\, and a blanket or chair. Food and drinks are available for purchase! 6:00 pm   Doors open 7:00 pm   The Tams Tickets can be purchased at the Door: General Admission $15 per adult\, FREE to MKAF members and kids under 12. Want to become an MKAF member? Learn more here: https://mkaf.org/membership/ THE TAMS The Tams are one of America's all time favorite recording acts. World renown for their special blend of music that makes up the Beach Music sound\, the Tams entertain crowds around the globe nearly 300 days a year! Probably best known for their 1968 gold hit\, "Be Young\, Be Foolish\, Be Happy"\, the Tams are celebrating the recent success of their newest single\, "Ain"t Nothing Like Shagging"\, which reached number 8 on the European charts.
X-ALT-DESC;FMTTYPE=text/html:<span style="font-size:14px\;"><span style="font-family:arial\;">Enjoy a night under the stars at the most beautiful outdoor music venue on the Emerald Coast. Bring a bottle of wine\, your favorite craft beer\, some delicious snacks\, and a blanket or chair. Food and drinks are available for purchase! 6:00 pm &ndash\; Doors open 7:00 pm &ndash\; The Tams Tickets can be purchased at the Door: General Admission $15 per adult\, FREE to MKAF members and kids under 12. Want to become an MKAF member? Learn more here: https://mkaf.org/membership/ THE TAMS The Tams are one of America&rsquo\;s all time favorite recording acts. World renown for their special blend of music that makes up the Beach Music sound\, the Tams entertain crowds around the globe nearly 300 days a year! Probably best known for their 1968 gold hit\, &ldquo\;Be Young\, Be Foolish\, Be Happy&rdquo\;\, the Tams are celebrating the recent success of their newest single\, &ldquo\;Ain&rdquo\;t Nothing Like Shagging&rdquo\;\, which reached number 8 on the European charts.</span></span>
LOCATION:Mattie Kelly Arts Foundation 4323 Commons Drive West Destin\, FL 32541
UID:e.885.30066
SEQUENCE:3
DTSTAMP:20260422T200628Z
URL:https://business.waltonareachamber.com/events/details/mkaf-presents-the-tams-in-concert-30066
END:VEVENT

END:VCALENDAR
