BEGIN:VCALENDAR
VERSION:2.0
PRODID:-//ChamberMaster//Event Calendar 2.0//EN
METHOD:PUBLISH
X-PUBLISHED-TTL:P3D
REFRESH-INTERVAL:P3D
CALSCALE:GREGORIAN
BEGIN:VEVENT
DTSTART:20220422T000000Z
DTEND:20220422T020000Z
X-MICROSOFT-CDO-ALLDAYEVENT:FALSE
SUMMARY:MKAF's Concerts in the Village: Michael Jackson LIVE
DESCRIPTION:Enjoy a night under the stars at the most beautiful outdoor music venue on the Emerald Coast. Bring a bottle of wine\, your favorite craft beer\, some delicious snacks\, and a blanket or chair. Food and drinks are available for purchase! 6:00 pm   Doors open 7:00 pm   Michael Jackson LIVE Tickets can be purchased at the Door: General Admission $30 per adult\, FREE to MKAF members and kids under 12. Want to become an MKAF member? Learn more here: https://mkaf.org/membership/ Santana Jackson is one of the top Michael Jackson tribute artists in the world. He has been a dedicated MJ fan since he was six years old and is committed to bringing the magic of Michael Jackson to audiences around the world in tribute to one of the greatest performers of all time.
X-ALT-DESC;FMTTYPE=text/html:Enjoy a night under the stars at the most beautiful outdoor music venue on the Emerald Coast. Bring a bottle of wine\, your favorite craft beer\, some delicious snacks\, and a blanket or chair. Food and drinks are available for purchase! 6:00 pm &ndash\; Doors open 7:00 pm &ndash\; Michael Jackson LIVE Tickets can be purchased at the Door: General Admission $30 per adult\, FREE to MKAF members and kids under 12. Want to become an MKAF member? Learn more here: https://mkaf.org/membership/ Santana Jackson is one of the top Michael Jackson tribute artists in the world. He has been a dedicated MJ fan since he was six years old and is committed to bringing the magic of Michael Jackson to audiences around the world in tribute to one of the greatest performers of all time.
LOCATION:Mattie Kelly Arts Foundation 4323 Commons Dr W Destin\, FL 32541
UID:e.885.33305
SEQUENCE:3
DTSTAMP:20260423T125831Z
URL:https://business.waltonareachamber.com/events/details/mkaf-s-concerts-in-the-village-michael-jackson-live-33305
END:VEVENT

END:VCALENDAR
