BEGIN:VCALENDAR
VERSION:2.0
PRODID:-//ChamberMaster//Event Calendar 2.0//EN
METHOD:PUBLISH
X-PUBLISHED-TTL:P3D
REFRESH-INTERVAL:P3D
CALSCALE:GREGORIAN
BEGIN:VEVENT
DTSTART:20220429T000000Z
DTEND:20220429T020000Z
X-MICROSOFT-CDO-ALLDAYEVENT:FALSE
SUMMARY:MKAF's Concerts in the Village: Naturally 7
DESCRIPTION:Enjoy a night under the stars at the most beautiful outdoor music venue on the Emerald Coast. Bring a bottle of wine\, your favorite craft beer\, some delicious snacks\, and a blanket or chair. Food and drinks are available for purchase! 6:00 pm   Doors open 7:00 pm   Naturally 7 Tickets can be purchased at the Door: General Admission $25 per adult\, FREE to MKAF members and kids under 12. Want to become an MKAF member? Learn more here: https://mkaf.org/membership/ The jaw-dropping audio pyrotechnics that Naturally 7 puts on display during every performance is amazing. Naturally 7 is more than a tightly orchestrated collection of great singers. They transform their voices into actual human instruments\, effortlessly producing music of any genre. Their vocal choreography is so perfectly interwoven that they compelled the musical maestro Quincy Jones to declare them "The best a cappella group in the world!"
X-ALT-DESC;FMTTYPE=text/html:Enjoy a night under the stars at the most beautiful outdoor music venue on the Emerald Coast. Bring a bottle of wine\, your favorite craft beer\, some delicious snacks\, and a blanket or chair. Food and drinks are available for purchase! 6:00 pm &ndash\; Doors open 7:00 pm &ndash\; Naturally 7 Tickets can be purchased at the Door: General Admission $25 per adult\, FREE to MKAF members and kids under 12. Want to become an MKAF member? Learn more here: https://mkaf.org/membership/ The jaw-dropping audio pyrotechnics that Naturally 7 puts on display during every performance is amazing. Naturally 7 is more than a tightly orchestrated collection of great singers. They transform their voices into actual human instruments\, effortlessly producing music of any genre. Their vocal choreography is so perfectly interwoven that they compelled the musical maestro Quincy Jones to declare them &ldquo\;The best a cappella group in the world!&rdquo\;
LOCATION:Mattie Kelly Arts Foundation 4323 Commons Dr W Destin\, FL 32541
UID:e.885.33306
SEQUENCE:3
DTSTAMP:20260423T125831Z
URL:https://business.waltonareachamber.com/events/details/mkaf-s-concerts-in-the-village-naturally-7-33306
END:VEVENT

END:VCALENDAR
