BEGIN:VCALENDAR
VERSION:2.0
PRODID:-//ChamberMaster//Event Calendar 2.0//EN
METHOD:PUBLISH
X-PUBLISHED-TTL:P3D
REFRESH-INTERVAL:P3D
CALSCALE:GREGORIAN
BEGIN:VEVENT
DTSTART:20220617T000000Z
DTEND:20220617T020000Z
X-MICROSOFT-CDO-ALLDAYEVENT:FALSE
SUMMARY:MKAF's Concerts in the Village: Sinfonia Gulf Coast featuring The Music of Led Zeppelin
DESCRIPTION:Enjoy a night under the stars at the most beautiful outdoor music venue on the Emerald Coast. Bring a bottle of wine\, your favorite craft beer\, some delicious snacks\, and a blanket or chair. Food and drinks are available for purchase! 6:00 pm   Doors open 7:00 pm   Sinfonia Gulf Coast featuring The Music of Led Zeppelin Tickets can be purchased at the Door: General Admission $30 per adult\, FREE to MKAF members and kids under 12. Want to become an MKAF member? Learn more here: https://mkaf.org/membership/ Bridging the gulf between rock n' roll and classical music\, conductor/arranger Brent Havens takes the podium to present The Music of Led Zeppelin\, a program he scored to extend the listening experience of Led Zeppelin's timeless tunes. Performed by Sinfonia Gulf Coast and amplified with a full rock band and screaming vocals by Randy Jackson\, Havens and his ensemble capture Led Zeppelin's "sheer blast and power" riff for riff while cranking out new musical colors.
X-ALT-DESC;FMTTYPE=text/html:Enjoy a night under the stars at the most beautiful outdoor music venue on the Emerald Coast. Bring a bottle of wine\, your favorite craft beer\, some delicious snacks\, and a blanket or chair. Food and drinks are available for purchase! 6:00 pm &ndash\; Doors open 7:00 pm &ndash\; Sinfonia Gulf Coast featuring The Music of Led Zeppelin Tickets can be purchased at the Door: General Admission $30 per adult\, FREE to MKAF members and kids under 12. Want to become an MKAF member? Learn more here: https://mkaf.org/membership/ Bridging the gulf between rock n&rsquo\; roll and classical music\, conductor/arranger Brent Havens takes the podium to present The Music of Led Zeppelin\, a program he scored to extend the listening experience of Led Zeppelin&rsquo\;s timeless tunes. Performed by Sinfonia Gulf Coast and amplified with a full rock band and screaming vocals by Randy Jackson\, Havens and his ensemble capture Led Zeppelin&rsquo\;s &ldquo\;sheer blast and power&rdquo\; riff for riff while cranking out new musical colors.
LOCATION:Mattie Kelly Arts Foundation 4323 Commons Dr W Destin\, FL 32541
UID:e.885.33313
SEQUENCE:3
DTSTAMP:20260423T155318Z
URL:https://business.waltonareachamber.com/events/details/mkaf-s-concerts-in-the-village-sinfonia-gulf-coast-featuring-the-music-of-led-zeppelin-33313
END:VEVENT

END:VCALENDAR
