BEGIN:VCALENDAR
VERSION:2.0
PRODID:-//ChamberMaster//Event Calendar 2.0//EN
METHOD:PUBLISH
X-PUBLISHED-TTL:P3D
REFRESH-INTERVAL:P3D
CALSCALE:GREGORIAN
BEGIN:VEVENT
DTSTART:20220520T000000Z
DTEND:20220520T020000Z
X-MICROSOFT-CDO-ALLDAYEVENT:FALSE
SUMMARY:MKAF's Concerts in the Village: Six Piece Suits
DESCRIPTION:Enjoy a night under the stars at the most beautiful outdoor music venue on the Emerald Coast. Bring a bottle of wine\, your favorite craft beer\, some delicious snacks\, and a blanket or chair. Food and drinks are available for purchase! 6:00 pm   Doors open 7:00 pm   Six Piece Suits Tickets can be purchased at the Door: General Admission $15 per adult\, FREE to MKAF members and kids under 12. Want to become an MKAF member? Learn more here: https://mkaf.org/membership/ Party band and entertainers led by the vocals of Kyle Hooks and the musicianship of Nicky\, Mike\, Corey\, Raywood\, and Nick Hooks\, all to create a powerhouse sound and experience.
X-ALT-DESC;FMTTYPE=text/html:Enjoy a night under the stars at the most beautiful outdoor music venue on the Emerald Coast. Bring a bottle of wine\, your favorite craft beer\, some delicious snacks\, and a blanket or chair. Food and drinks are available for purchase! 6:00 pm &ndash\; Doors open 7:00 pm &ndash\; Six Piece Suits Tickets can be purchased at the Door: General Admission $15 per adult\, FREE to MKAF members and kids under 12. Want to become an MKAF member? Learn more here: https://mkaf.org/membership/ Party band and entertainers led by the vocals of Kyle Hooks and the musicianship of Nicky\, Mike\, Corey\, Raywood\, and Nick Hooks\, all to create a powerhouse sound and experience.
LOCATION:Mattie Kelly Arts Foundation 4323 Commons Dr W Destin\, FL 32541
UID:e.885.33309
SEQUENCE:3
DTSTAMP:20260423T143434Z
URL:https://business.waltonareachamber.com/events/details/mkaf-s-concerts-in-the-village-six-piece-suits-33309
END:VEVENT

END:VCALENDAR
