BEGIN:VCALENDAR
VERSION:2.0
PRODID:-//ChamberMaster//Event Calendar 2.0//EN
METHOD:PUBLISH
X-PUBLISHED-TTL:P3D
REFRESH-INTERVAL:P3D
CALSCALE:GREGORIAN
BEGIN:VEVENT
DTSTART:20240807T010000Z
DTEND:20240807T030000Z
X-MICROSOFT-CDO-ALLDAYEVENT:FALSE
SUMMARY:Movie Monday at The Village of Baytowne Wharf
DESCRIPTION:Grab a lawn chair or blanket and cozy up on the Events Plaza Lawn for a featured film.\n\n\n\nMovie Listings:\n\nAugust 6 | Dolittle
X-ALT-DESC;FMTTYPE=text/html:<span style="color:#40454A"><span style="font-family:arial\,sans-serif"><span style="font-size:11.0pt">Grab a lawn chair or blanket and cozy up on the Events Plaza Lawn for a featured film.</span></span></span><br />\n<br />\n<span style="color:#40454A"><span style="font-family:arial\,sans-serif"><span style="font-size:11.0pt"><strong>Movie Listings:</strong><br />\nAugust 6 | Dolittle</span></span></span>
LOCATION:The Village of Baytowne Wharf 9100 Baytowne Boulevard Miramar Beach\, FL 32550
UID:e.885.41543
SEQUENCE:3
DTSTAMP:20260425T170824Z
URL:https://business.waltonareachamber.com/events/details/movie-monday-at-the-village-of-baytowne-wharf-08-06-2024-41543
END:VEVENT

END:VCALENDAR
