BEGIN:VCALENDAR
VERSION:2.0
PRODID:-//ChamberMaster//Event Calendar 2.0//EN
METHOD:PUBLISH
X-PUBLISHED-TTL:P3D
REFRESH-INTERVAL:P3D
CALSCALE:GREGORIAN
BEGIN:VEVENT
DTSTART;VALUE=DATE:20211001
DTEND;VALUE=DATE:20211101
TRANSP:TRANSPARENT
X-MICROSOFT-CDO-ALLDAYEVENT:TRUE
SUMMARY:NB Social Live Music October Lineup
DESCRIPTION:NB Social Live Music October Lineup\n\n\n\nMonday 5-8pm\n\n    Rhino Jockeys\n\n\n\nTuesday 5-8pm\n\n    October 5 - Shakedown Duo\n\n    October 12 - Laura Lane & Chip Martin\n\n    October 19 - Forrest Williams\n\n    October 26 - Casey Kearney\n\n\n\nWednesday No Music\n\n   Bocce Ball\n\n\n\nThursday 5-8pm\n\n    Boukou Duo\n\n\n\nFriday\n\n    October 8\n\n    Nashville Jamboree Featuring Sweet Megg\n\n    Hannah Juanita\n\n    Mose Wilson\n\n\n\nSaturday 12-3pm\n\n    October 2\, 9\, 23\, 30 - Mark & Krissa\n\n    October 16 - Ken & Andi Johnson\n\n\n\nSunday 1-4pm\n\n    Wildlife Specials\n\n\n\nALL DAY SPECIALS:\n\n$3 Shocktop\n\n$5 Bubbles\n\n$7 Well drinks\n\n$22 Domestic buckets (5 beers)\n\n$26 Import buckets (5 beers)\n\n\n\nnorthbeach.social
X-ALT-DESC;FMTTYPE=text/html:<span style="font-size:14px\;"><span style="font-family:arial\;">NB Social Live Music October Lineup<br />\n<br />\nMonday 5-8pm<br />\n&nbsp\; &nbsp\; Rhino Jockeys<br />\n<br />\nTuesday 5-8pm<br />\n&nbsp\; &nbsp\; October 5 - Shakedown Duo<br />\n&nbsp\; &nbsp\; October 12 - Laura Lane &amp\; Chip Martin<br />\n&nbsp\; &nbsp\; October 19 - Forrest Williams<br />\n&nbsp\; &nbsp\; October 26 - Casey Kearney<br />\n<br />\nWednesday No Music<br />\n&nbsp\; &nbsp\;Bocce Ball<br />\n<br />\nThursday 5-8pm<br />\n&nbsp\; &nbsp\; Boukou Duo<br />\n<br />\nFriday<br />\n&nbsp\; &nbsp\; October 8<br />\n&nbsp\; &nbsp\; Nashville Jamboree Featuring Sweet Megg<br />\n&nbsp\; &nbsp\; Hannah Juanita<br />\n&nbsp\; &nbsp\; Mose Wilson<br />\n<br />\nSaturday 12-3pm<br />\n&nbsp\; &nbsp\; October 2\, 9\, 23\, 30 - Mark &amp\; Krissa<br />\n&nbsp\; &nbsp\; October 16 - Ken &amp\; Andi Johnson<br />\n<br />\nSunday 1-4pm<br />\n&nbsp\; &nbsp\; Wildlife Specials<br />\n<br />\n<i style="caret-color: rgb(0\, 0\, 0)\; color: rgb(0\, 0\, 0)\; font-family: Calibri\, sans-serif\; font-size: 14.666666984558105px\;">ALL DAY SPECIALS:</i><br style="caret-color: rgb(0\, 0\, 0)\; color: rgb(0\, 0\, 0)\; font-family: Calibri\, sans-serif\; font-size: 14.666666984558105px\;" />\n<span style="caret-color: rgb(0\, 0\, 0)\; color: rgb(0\, 0\, 0)\;">$3 Shocktop</span><br style="caret-color: rgb(0\, 0\, 0)\; color: rgb(0\, 0\, 0)\; font-family: Calibri\, sans-serif\; font-size: 14.666666984558105px\;" />\n<span style="caret-color: rgb(0\, 0\, 0)\; color: rgb(0\, 0\, 0)\;">$5 Bubbles</span><br style="caret-color: rgb(0\, 0\, 0)\; color: rgb(0\, 0\, 0)\; font-family: Calibri\, sans-serif\; font-size: 14.666666984558105px\;" />\n<span style="caret-color: rgb(0\, 0\, 0)\; color: rgb(0\, 0\, 0)\;">$7 Well drinks</span><br style="caret-color: rgb(0\, 0\, 0)\; color: rgb(0\, 0\, 0)\; font-family: Calibri\, sans-serif\; font-size: 14.666666984558105px\;" />\n<span style="caret-color: rgb(0\, 0\, 0)\; color: rgb(0\, 0\, 0)\;">$22 Domestic buckets (5 beers)</span><br style="caret-color: rgb(0\, 0\, 0)\; color: rgb(0\, 0\, 0)\; font-family: Calibri\, sans-serif\; font-size: 14.666666984558105px\;" />\n<span style="caret-color: rgb(0\, 0\, 0)\; color: rgb(0\, 0\, 0)\;">$26 Import buckets (5 beers)</span><br />\n<br />\nnorthbeach.social</span></span>
LOCATION:NB Social
UID:e.885.32445
SEQUENCE:3
DTSTAMP:20260423T025357Z
URL:https://business.waltonareachamber.com/events/details/nb-social-live-music-october-lineup-32445
END:VEVENT

END:VCALENDAR
