BEGIN:VCALENDAR
VERSION:2.0
PRODID:-//ChamberMaster//Event Calendar 2.0//EN
METHOD:PUBLISH
X-PUBLISHED-TTL:P3D
REFRESH-INTERVAL:P3D
CALSCALE:GREGORIAN
BEGIN:VEVENT
DTSTART;VALUE=DATE:20130530
DTEND;VALUE=DATE:20130602
TRANSP:TRANSPARENT
X-MICROSOFT-CDO-ALLDAYEVENT:TRUE
SUMMARY:Neighbors Kitchen
DESCRIPTION:Come see us at Billy Bowlegs Pirate Festival!\n\n\n\nHand Dipped Corn Dogs\, Fresh Cut Fries and Fried Oreos! Freshly cooked to order\; always hot never cold!\n\n\n\n\n	Fresh Tea and Lemonade
X-ALT-DESC;FMTTYPE=text/html:<span style="font-size: 26px\;"><span style="font-family: comic sans ms\;"><strong>Come see us at Billy Bowlegs Pirate Festival!</strong></span></span><br />\n<br />\n<span style="font-size: 28px\;"><span style="font-family: courier new\;">Hand Dipped Corn Dogs\, Fresh Cut Fries and Fried Oreos! Freshly cooked to order\; always hot never cold!</span></span><br />\n<br />\n<h2 style="color: red\;">\n	<span style="font-size: 28px\;"><span style="font-family: courier new\;"><span style="font-family: tahoma\;">Fresh Tea and Lemonade</span></span></span></h2>\n
LOCATION:The Landing Park\, Fort Walton Beach
UID:e.885.8826
SEQUENCE:3
DTSTAMP:20260425T213546Z
URL:https://business.waltonareachamber.com/events/details/neighbors-kitchen-05-30-2013-8826
END:VEVENT

END:VCALENDAR
