BEGIN:VCALENDAR
VERSION:2.0
PRODID:-//ChamberMaster//Event Calendar 2.0//EN
METHOD:PUBLISH
X-PUBLISHED-TTL:P3D
REFRESH-INTERVAL:P3D
CALSCALE:GREGORIAN
BEGIN:VEVENT
DTSTART:20250309T013000Z
DTEND:20250309T033000Z
X-MICROSOFT-CDO-ALLDAYEVENT:FALSE
SUMMARY:NFB's 2025 Cinderella
DESCRIPTION:NFB returns to the Mattie Kelly Arts Center to conclude the season on Sat.\, March 8\, at 7:30 p.m. and Sun.\, March 9\, at 2:30 p.m. with Cinderella. With live music by the NFSO led by Ott\, this beloved classic features the acclaimed choreography of NFB Artistic Director Todd Eric Allen and the beautiful music of Serge Prokofiev. NFB's Cinderella is presented in three acts and brings to life a cavalcade of enchanting characters\, brilliant dancing\, vibrant costumes and magical scenery sure to hold you under its spell.\n\nThe Northwest Florida Symphony Orchestra (NFSO)\, led by NFB Music Director and Conductor David Ott\, will provide musical accompaniment. A VIP party will be held immediately following the performance on March 8 exclusively for season subscribers\, cast\, staff and special guests.\n\nCinderella is brought to you by Season Production Sponsor\, the Mattie Kelly Arts Center\, and Signature Sponsors Scarlett Magazine and NFB's Official Sports Medicine and Orthopaedic Provider\, NFBJS Foot & Ankle Surgeon Dr. Sonya Ahmed.
X-ALT-DESC;FMTTYPE=text/html:<p>NFB returns to the Mattie Kelly Arts Center to conclude the season on Sat.\, March 8\, at 7:30 p.m. and Sun.\, March 9\, at 2:30 p.m. with&nbsp\;<em>Cinderella.</em>&nbsp\;With live music by the NFSO led by Ott\, this beloved classic features the acclaimed choreography of NFB Artistic Director Todd Eric Allen and the beautiful music of Serge Prokofiev. NFB&rsquo\;s&nbsp\;<em>Cinderella</em>&nbsp\;is presented in three acts and brings to life a cavalcade of enchanting characters\, brilliant dancing\, vibrant costumes and magical scenery sure to hold you under its spell.</p>\n\n<p style="margin-left:0px\; margin-right:0px">The Northwest Florida Symphony Orchestra (NFSO)\, led by NFB Music Director and Conductor David Ott\, will provide musical accompaniment. A VIP party will be held immediately following the performance on March 8 exclusively for season subscribers\, cast\, staff and special guests.</p>\n\n<p style="margin-left:0px\; margin-right:0px"><em>Cinderella</em>&nbsp\;is brought to you by Season Production Sponsor\, the Mattie Kelly Arts Center\, and Signature Sponsors&nbsp\;<em>Scarlett Magazine&nbsp\;</em>and<em>&nbsp\;</em>NFB&#39\;s Official Sports Medicine and Orthopaedic Provider\, NFBJS Foot &amp\; Ankle Surgeon Dr. Sonya Ahmed.</p>\n
LOCATION:Mattie Kelly Arts Center
UID:e.885.45313
SEQUENCE:3
DTSTAMP:20260423T044711Z
URL:https://business.waltonareachamber.com/events/details/nfb-s-2025-cinderella-45313
END:VEVENT

END:VCALENDAR
