BEGIN:VCALENDAR
VERSION:2.0
PRODID:-//ChamberMaster//Event Calendar 2.0//EN
METHOD:PUBLISH
X-PUBLISHED-TTL:P3D
REFRESH-INTERVAL:P3D
CALSCALE:GREGORIAN
BEGIN:VEVENT
DTSTART:20210929T220000Z
DTEND:20210930T000000Z
X-MICROSOFT-CDO-ALLDAYEVENT:FALSE
SUMMARY:Nonprofit After Dark
DESCRIPTION:Audience: All Sectors (Nonprofit\, Business\, Education and Political) This free\, after-hours networking event presents a great opportunity to connect with others from across the social sector and to upgrade your professional and personal networks. Registration is open to all nonprofit staff\, board members\, donors\, volunteers\, and supporters. Just bring your business cards and a genuine desire to the community. Register Here!
X-ALT-DESC;FMTTYPE=text/html:Audience: All Sectors (Nonprofit\, Business\, Education and Political) This free\, after-hours networking event presents a great opportunity to connect with others from across the social sector and to upgrade your professional and personal networks. Registration is open to all nonprofit staff\, board members\, donors\, volunteers\, and supporters. Just bring your business cards and a genuine desire to the community. Register Here!
LOCATION:Institute for Nonprofit Innovation and Excellence 300 W Pensacola St #3\, Tallahassee\, FL 32301
UID:e.885.32404
SEQUENCE:3
DTSTAMP:20260423T010444Z
URL:https://business.waltonareachamber.com/events/details/nonprofit-after-dark-32404
END:VEVENT

END:VCALENDAR
