BEGIN:VCALENDAR
VERSION:2.0
PRODID:-//ChamberMaster//Event Calendar 2.0//EN
METHOD:PUBLISH
X-PUBLISHED-TTL:P3D
REFRESH-INTERVAL:P3D
CALSCALE:GREGORIAN
BEGIN:VEVENT
DTSTART:20220702T180000Z
DTEND:20220703T020000Z
X-MICROSOFT-CDO-ALLDAYEVENT:FALSE
SUMMARY:North Bay Social 4th of July
DESCRIPTION:North Bay Social 4th of July \n\nSaturday: \n\n1-4pm: Mark and Krissa\n\n6-9pm: Dion Jones\n\n\n\nSunday:\n\n1-4pm: Wildlife Special3\n\n6:30-8:30pm: Nutrl Promo (with free tastings and giveaways)\n\n6pm: Paella Night\n\n\n\nMonday\n\n6pm-9pm: Rhino Jockeys\n\n9pm: Fireworks
X-ALT-DESC;FMTTYPE=text/html:North Bay Social 4th of July&nbsp\;<br />\nSaturday:&nbsp\;<br />\n1-4pm: Mark and Krissa<br />\n6-9pm: Dion Jones<br />\n<br />\nSunday:<br />\n1-4pm: Wildlife Special3<br />\n6:30-8:30pm: Nutrl Promo (with free tastings and giveaways)<br />\n6pm: Paella Night<br />\n<br />\nMonday<br />\n6pm-9pm: Rhino Jockeys<br />\n9pm: Fireworks
LOCATION:
UID:e.885.33912
SEQUENCE:3
DTSTAMP:20260423T170710Z
URL:https://business.waltonareachamber.com/events/details/north-bay-social-4th-of-july-33912
END:VEVENT

END:VCALENDAR
