BEGIN:VCALENDAR
VERSION:2.0
PRODID:-//ChamberMaster//Event Calendar 2.0//EN
METHOD:PUBLISH
X-PUBLISHED-TTL:P3D
REFRESH-INTERVAL:P3D
CALSCALE:GREGORIAN
BEGIN:VEVENT
DTSTART:20220719T230000Z
DTEND:20220720T020000Z
X-MICROSOFT-CDO-ALLDAYEVENT:FALSE
SUMMARY:North Bay Social Live Music
DESCRIPTION:Tuesdays: 6-9PM\n\nForrest Williams Band
X-ALT-DESC;FMTTYPE=text/html:<span style="color: rgb(34\, 34\, 34)\; font-family: Arial\, Helvetica\, sans-serif\; font-size: small\;">Tuesdays: 6-9PM</span><br style="color: rgb(34\, 34\, 34)\; font-family: Arial\, Helvetica\, sans-serif\; font-size: small\;" />\nForrest Williams Band
LOCATION:
UID:e.885.33919
SEQUENCE:3
DTSTAMP:20260423T170930Z
URL:https://business.waltonareachamber.com/events/details/north-bay-social-live-music-07-19-2022-33919
END:VEVENT

END:VCALENDAR
