BEGIN:VCALENDAR
VERSION:2.0
PRODID:-//ChamberMaster//Event Calendar 2.0//EN
METHOD:PUBLISH
X-PUBLISHED-TTL:P3D
REFRESH-INTERVAL:P3D
CALSCALE:GREGORIAN
BEGIN:VEVENT
DTSTART:20220704T230000Z
DTEND:20220705T020000Z
X-MICROSOFT-CDO-ALLDAYEVENT:FALSE
SUMMARY:North Bay Social Live Music
DESCRIPTION:Mondays: 6-9PM\n\nJuly 4 & 11- Rhino Jockeys\n\nJuly 18- Beach Mountain Blues Band\n\nJuly 25- Shaketown
X-ALT-DESC;FMTTYPE=text/html:<span style="color: rgb(34\, 34\, 34)\; font-family: Arial\, Helvetica\, sans-serif\; font-size: small\;">Mondays: 6-9PM</span><br style="color: rgb(34\, 34\, 34)\; font-family: Arial\, Helvetica\, sans-serif\; font-size: small\;" />\n<span style="color: rgb(34\, 34\, 34)\; font-family: Arial\, Helvetica\, sans-serif\; font-size: small\;">July 4 &amp\; 11- Rhino Jockeys</span><br style="color: rgb(34\, 34\, 34)\; font-family: Arial\, Helvetica\, sans-serif\; font-size: small\;" />\n<span style="color: rgb(34\, 34\, 34)\; font-family: Arial\, Helvetica\, sans-serif\; font-size: small\;">July 18- Beach Mountain Blues Band</span><br style="color: rgb(34\, 34\, 34)\; font-family: Arial\, Helvetica\, sans-serif\; font-size: small\;" />\n<span style="color: rgb(34\, 34\, 34)\; font-family: Arial\, Helvetica\, sans-serif\; font-size: small\;">July 25- Shaketown</span>
LOCATION:
UID:e.885.33913
SEQUENCE:3
DTSTAMP:20260423T170633Z
URL:https://business.waltonareachamber.com/events/details/north-bay-social-live-music-33913
END:VEVENT

END:VCALENDAR
