BEGIN:VCALENDAR
VERSION:2.0
PRODID:-//ChamberMaster//Event Calendar 2.0//EN
METHOD:PUBLISH
X-PUBLISHED-TTL:P3D
REFRESH-INTERVAL:P3D
CALSCALE:GREGORIAN
BEGIN:VEVENT
DTSTART:20220709T180000Z
DTEND:20220710T020000Z
X-MICROSOFT-CDO-ALLDAYEVENT:FALSE
SUMMARY:North Bay Social Live Music
DESCRIPTION:Saturdays\n\n1-4PM: Mark & Krissa\n\n6-9PM: Dion Jones
X-ALT-DESC;FMTTYPE=text/html:Saturdays<br />\n1-4PM: Mark &amp\; Krissa<br />\n6-9PM: Dion Jones
LOCATION:
UID:e.885.33929
SEQUENCE:3
DTSTAMP:20260423T183330Z
URL:https://business.waltonareachamber.com/events/details/north-bay-social-live-music-33929
END:VEVENT

END:VCALENDAR
