BEGIN:VCALENDAR
VERSION:2.0
PRODID:-//ChamberMaster//Event Calendar 2.0//EN
METHOD:PUBLISH
X-PUBLISHED-TTL:P3D
REFRESH-INTERVAL:P3D
CALSCALE:GREGORIAN
BEGIN:VEVENT
DTSTART:20220505T230000Z
DTEND:20220506T020000Z
X-MICROSOFT-CDO-ALLDAYEVENT:FALSE
SUMMARY:North Beach Social Cinco De Mayo
DESCRIPTION:North Beach Social presents a Cinco De Mayo Fiesta!
X-ALT-DESC;FMTTYPE=text/html:North Beach Social presents a Cinco De Mayo Fiesta!&nbsp\;
LOCATION:North Beach Social 24200 US-331\, Santa Rosa Beach\, FL 32459
UID:e.885.33854
SEQUENCE:3
DTSTAMP:20260423T155623Z
URL:https://business.waltonareachamber.com/events/details/north-beach-social-cinco-de-mayo-33854
END:VEVENT

END:VCALENDAR
