BEGIN:VCALENDAR
VERSION:2.0
PRODID:-//ChamberMaster//Event Calendar 2.0//EN
METHOD:PUBLISH
X-PUBLISHED-TTL:P3D
REFRESH-INTERVAL:P3D
CALSCALE:GREGORIAN
BEGIN:VEVENT
DTSTART:20210502T220000Z
DTEND:20210503T010000Z
X-MICROSOFT-CDO-ALLDAYEVENT:FALSE
SUMMARY:North Beach Social Hosts 'A Family Night Out' Benefiting 30A Trails
DESCRIPTION:On Sunday\, May 2\, 2021\, North Beach Social will welcome friends and families for a community event benefiting 30A Trails. The event\, sponsored by Citadel Roofing and Restoration\, will feature live music by Wildlife Specials from 5:00 - 8:00 p.m. Bring the whole family to dine\, enjoy drinks and play on the beach while giving back to a great cause.
X-ALT-DESC;FMTTYPE=text/html:<div style="margin: 0px\; padding: 0px\; border: 0px\; font: inherit\; vertical-align: baseline\; color: inherit\;"><span style="font-size:14px\;"><span style="font-family:arial\;">On Sunday\, May 2\, 2021\, North Beach Social will welcome friends and families for a community event benefiting&nbsp\;30A Trails. The event\, sponsored by Citadel Roofing and Restoration\, will feature live music by Wildlife Specials from 5:00 - 8:00 p.m. Bring the whole family to dine\, enjoy drinks and play on the beach while giving back to a great cause.&nbsp\;</span></span></div>\n\n<div style="margin: 0px\; padding: 0px\; border: 0px\; font: inherit\; vertical-align: baseline\; color: inherit\;">&nbsp\;</div>\n
LOCATION:24200 US-331\, Santa Rosa Beach\, FL 32459
UID:e.885.30058
SEQUENCE:3
DTSTAMP:20260422T143039Z
URL:https://business.waltonareachamber.com/events/details/north-beach-social-hosts-a-family-night-out-benefiting-30a-trails-30058
END:VEVENT

END:VCALENDAR
