BEGIN:VCALENDAR
VERSION:2.0
PRODID:-//ChamberMaster//Event Calendar 2.0//EN
METHOD:PUBLISH
X-PUBLISHED-TTL:P3D
REFRESH-INTERVAL:P3D
CALSCALE:GREGORIAN
BEGIN:VEVENT
DTSTART:20211219T230000Z
DTEND:20211220T020000Z
X-MICROSOFT-CDO-ALLDAYEVENT:FALSE
SUMMARY:North Beach Social Live Music Line Up
DESCRIPTION:North Beach Social Live Music Line Up:\n\n\n\nMondays - 5-8PM\n\nEvery Monday - Rhino Jockeys\n\n\n\nTuesdays: 5-8PM\n\nDec 7 - Mars Hotel\n\nDec 14 - Forrest Williams Band\n\nDec 21 - Forrest Williams Band\n\nDec 28 - Laura Lane & Chip Martin\n\n\n\nWednesdays: no events\n\n\n\nThursdays - 5-8PM\n\nEvery Thursday - Boukou Groove Duo\n\n \n\nFridays: no events\n\n\n\nSaturdays - 1-4PM\n\nEvery Saturday (except Christmas) Mark & Krissa \n\nClosed Christmas Day\n\n\n\nSundays - 2-5PM\n\nEvery Sunday - Wildlife Special3\n\n\n\n\n\nALL DAY SPECIALS:\n\n$3 Shocktop\n\n$5 Bubbles\n\n$7 Well drinks\n\n$22 Domestic buckets (5 beers)\n\n$26 Import buckets (5 beers)\n\n \n\nMore info: northbeach.social. All graphics attached. \n\n\n\n \n\n \n\nFarm & Fire Southern Pizzeria:\n\nWed - Sun - 4:00 - 9:30 PM\n\nNo music at Farm & Fire currently\n\n \n\nHappy Hour - 4-6PM ONLY\n\n$7 select spirits\n\n$6 glass house wine\n\n$1 off draft beer\n\n\n\n \n\nOld Fashioned Thursdays\n\nChoose form a curated menu of Old Fashioneds for just $10\n\n \n\nMore info and now offering reservations: farmandfirepizza.com
X-ALT-DESC;FMTTYPE=text/html:<div style="color:rgb(0\, 0\, 0)\;font-family:Calibri\;font-size:14px\;"><span style="font-size:14px\;"><span style="font-family:arial\;"><strong>North Beach Social Live Music Line Up:</strong></span></span></div>\n\n<div style="color:rgb(0\, 0\, 0)\;font-family:Calibri\;font-size:14px\;"><br />\n<span style="font-size:14px\;"><span style="font-family:arial\;">Mondays - 5-8PM<br />\nEvery Monday - Rhino Jockeys<br />\n<br />\nTuesdays: 5-8PM<br />\nDec 7 - Mars Hotel<br />\nDec 14 - Forrest Williams Band<br />\nDec 21 - Forrest Williams Band<br />\nDec 28 - Laura Lane &amp\; Chip Martin<br />\n<br />\nWednesdays: no events<br />\n<br />\nThursdays - 5-8PM<br />\nEvery Thursday - Boukou Groove Duo</span></span></div>\n\n<div style="color:rgb(0\, 0\, 0)\;font-family:Calibri\;font-size:14px\;"><span style="font-size:14px\;"><span style="font-family:arial\;">&nbsp\;</span></span></div>\n\n<div style="color:rgb(0\, 0\, 0)\;font-family:Calibri\;font-size:14px\;"><span style="font-size:14px\;"><span style="font-family:arial\;">Fridays: no events</span></span></div>\n\n<div style="color:rgb(0\, 0\, 0)\;font-family:Calibri\;font-size:14px\;"><br />\n<span style="font-size:14px\;"><span style="font-family:arial\;">Saturdays - 1-4PM<br />\nEvery Saturday (except Christmas) Mark &amp\; Krissa&nbsp\;<br />\nClosed Christmas Day<br />\n<br />\nSundays - 2-5PM</span></span></div>\n\n<div style="color:rgb(0\, 0\, 0)\;font-family:Calibri\;font-size:14px\;"><span style="font-size:14px\;"><span style="font-family:arial\;">Every Sunday - Wildlife Special3</span></span></div>\n\n<div style="color:rgb(0\, 0\, 0)\;font-family:Calibri\;font-size:14px\;"><br />\n<br />\n<span style="font-size:14px\;"><span style="font-family:arial\;">ALL DAY SPECIALS:<br />\n$3 Shocktop</span></span></div>\n\n<div style="color:rgb(0\, 0\, 0)\;font-family:Calibri\;font-size:14px\;"><span style="font-size:14px\;"><span style="font-family:arial\;">$5 Bubbles<br />\n$7 Well drinks<br />\n$22 Domestic buckets (5 beers)<br />\n$26 Import buckets (5 beers)</span></span></div>\n\n<div style="color:rgb(0\, 0\, 0)\;font-family:Calibri\;font-size:14px\;"><span style="font-size:14px\;"><span style="font-family:arial\;">&nbsp\;</span></span></div>\n\n<div style="color:rgb(0\, 0\, 0)\;font-family:Calibri\;font-size:14px\;"><span style="font-size:14px\;"><span style="font-family:arial\;">More info:&nbsp\;<a href="http://northbeach.social/" style="color:blue\;" target="_blank" title="http://northbeach.social/">northbeach.social</a>. All graphics attached.&nbsp\;</span></span>\n\n<div>\n<div>\n<div><span style="font-size:14px\;"><span style="font-family:arial\;">&nbsp\;</span></span></div>\n\n<div><span style="font-size:14px\;"><span style="font-family:arial\;">&nbsp\;</span></span></div>\n\n<div><span style="font-size:14px\;"><span style="font-family:arial\;"><strong><em>Farm &amp\; Fire Southern Pizzeria:</em></strong></span></span></div>\n\n<div><span style="font-size:14px\;"><span style="font-family:arial\;"><strong>Wed - Sun - 4:00 - 9:30 PM</strong></span></span></div>\n\n<div><span style="font-size:14px\;"><span style="font-family:arial\;"><strong>No music at Farm &amp\; Fire currently</strong></span></span></div>\n\n<div><span style="font-size:14px\;"><span style="font-family:arial\;">&nbsp\;</span></span></div>\n\n<div><span style="font-size:14px\;"><span style="font-family:arial\;">Happy Hour - 4-6PM ONLY</span></span></div>\n\n<div><span style="font-size:14px\;"><span style="font-family:arial\;">$7 select spirits</span></span></div>\n\n<div><span style="font-size:14px\;"><span style="font-family:arial\;">$6 glass house wine</span></span></div>\n\n<div><span style="font-size:14px\;"><span style="font-family:arial\;">$1 off draft beer</span></span></div>\n</div>\n\n<div>\n<div><span style="font-size:14px\;"><span style="font-family:arial\;">&nbsp\;</span></span></div>\n\n<div><span style="font-size:14px\;"><span style="font-family:arial\;"><em>Old Fashioned Thursdays</em><br />\nChoose form a curated menu of Old Fashioneds for just $10</span></span></div>\n\n<div><span style="font-size:14px\;"><span style="font-family:arial\;">&nbsp\;</span></span></div>\n\n<div><span style="font-size:14px\;"><span style="font-family:arial\;">More info and now offering reservations:&nbsp\;<a href="http://farmandfirepizza.com/" style="color:blue\;" target="_blank" title="http://farmandfirepizza.com/">farmandfirepizza.com</a></span></span></div>\n</div>\n</div>\n</div>\n
LOCATION:
UID:e.885.33115
SEQUENCE:3
DTSTAMP:20260423T063658Z
URL:https://business.waltonareachamber.com/events/details/north-beach-social-live-music-line-up-12-19-2021-33115
END:VEVENT

END:VCALENDAR
