BEGIN:VCALENDAR
VERSION:2.0
PRODID:-//ChamberMaster//Event Calendar 2.0//EN
METHOD:PUBLISH
X-PUBLISHED-TTL:P3D
REFRESH-INTERVAL:P3D
CALSCALE:GREGORIAN
BEGIN:VEVENT
DTSTART:20211206T160000Z
DTEND:20211206T220000Z
X-MICROSOFT-CDO-ALLDAYEVENT:FALSE
SUMMARY:Northwest Florida Golf Classic
DESCRIPTION:FRLA Northwest Florida Annual Golf Classic\n\nMonday\, December 6th @ 10:00AM\n\nBlackstone Golf Club\n\n \n\nThe FRLA Northwest Florida Golf Classic is coming up next week! There are a few spots left to get your team registered today!\n\nIt will be a great day of golfing with breakfast\, bites\, and lunch provided by member restaurants as well as adult beverages!\n\nThe will be raffles\, a silent auction and tournament prizes!\n\nCigar Factory Destin will be on hand before and after the tournament with all proceeds going the Habitat for Humanity!
X-ALT-DESC;FMTTYPE=text/html:<p style="margin: 0px\; text-align: center\; font-stretch: normal\; line-height: normal\; font-family: &quot\;Helvetica Neue&quot\;\;"><b>FRLA Northwest Florida Annual Golf Classic<br />\nMonday\, December 6th @ 10:00AM<br />\nBlackstone Golf Club</b><br />\n&nbsp\;</p>\n\n<p style="margin: 0px\; text-align: center\; font-stretch: normal\; line-height: normal\; font-family: &quot\;Helvetica Neue&quot\;\;">The FRLA Northwest Florida Golf Classic is coming up next week! There are a few spots left to get your team registered today!</p>\n\n<p style="margin: 0px\; text-align: center\; font-stretch: normal\; line-height: normal\; font-family: &quot\;Helvetica Neue&quot\;\;">It will be a great day of golfing with breakfast\, bites\, and lunch provided by member restaurants as well as adult beverages!</p>\n\n<p style="margin: 0px\; text-align: center\; font-stretch: normal\; line-height: normal\; font-family: &quot\;Helvetica Neue&quot\;\;">The will be raffles\, a silent auction and tournament prizes!</p>\n\n<p style="margin: 0px\; text-align: center\; font-stretch: normal\; line-height: normal\; font-family: &quot\;Helvetica Neue&quot\;\;">Cigar Factory Destin will be on hand before and after the tournament with all proceeds going the Habitat for Humanity!</p>\n
LOCATION:Blackstone Golf Course
UID:e.885.32668
SEQUENCE:3
DTSTAMP:20260423T080328Z
URL:https://business.waltonareachamber.com/events/details/northwest-florida-golf-classic-32668
END:VEVENT

END:VCALENDAR
