BEGIN:VCALENDAR
VERSION:2.0
PRODID:-//ChamberMaster//Event Calendar 2.0//EN
METHOD:PUBLISH
X-PUBLISHED-TTL:P3D
REFRESH-INTERVAL:P3D
CALSCALE:GREGORIAN
BEGIN:VEVENT
DTSTART:20251120T223000Z
DTEND:20251121T003000Z
X-MICROSOFT-CDO-ALLDAYEVENT:FALSE
SUMMARY:November 2025 Business After Hours Hosted by The Waters at Freeport
DESCRIPTION:Join us for an evening of networking\, connection\, and community at our Business After Hours event\, hosted by The Waters at Freeport! Mix and mingle with fellow professionals\, build valuable business relationships\, and enjoy a relaxed atmosphere with great food and drinks. This month's event comes with extra treats enjoy a full chili bar with a variety of toppings\, sweet treats\, coffee with multiple creamer options\, and a selection of alcoholic and non-alcoholic beverages. Plus\, don't miss your chance to win a $100 gift card to The Freeport House Spa.\n\n  November 20\, 2025\n\n  4:30 p.m.\n\n  The Waters at Freeport\, 185 Marquis Way\, Freeport\, FL 32439\n\nWe can't wait to see you there for an evening of fun\, flavor\, and fantastic connections!
X-ALT-DESC;FMTTYPE=text/html:<article class="text-token-text-primary w-full focus:outline-none [--shadow-height:45px] has-data-writing-block:pointer-events-none has-data-writing-block:-mt-(--shadow-height) has-data-writing-block:pt-(--shadow-height) [&amp\;:has([data-writing-block])&gt\;*]:pointer-events-auto [content-visibility:auto] supports-[content-visibility:auto]:[contain-intrinsic-size:auto_100lvh] scroll-mt-[calc(var(--header-height)+min(200px\,max(70px\,20svh)))]" data-scroll-anchor="true" data-testid="conversation-turn-8" data-turn="assistant" data-turn-id="request-WEB:5e0d5b7f-635b-4c20-8671-f920d4b85bc5-3" dir="auto" tabindex="-1">\n<div class="text-base my-auto mx-auto pb-10 [--thread-content-margin:--spacing(4)] thread-sm:[--thread-content-margin:--spacing(6)] thread-lg:[--thread-content-margin:--spacing(16)] px-(--thread-content-margin)">\n<div class="[--thread-content-max-width:40rem] thread-lg:[--thread-content-max-width:48rem] mx-auto max-w-(--thread-content-max-width) flex-1 group/turn-messages focus-visible:outline-hidden relative flex w-full min-w-0 flex-col agent-turn" tabindex="-1">\n<div class="flex max-w-full flex-col grow">\n<div class="min-h-8 text-message relative flex w-full flex-col items-end gap-2 text-start break-words whitespace-normal [.text-message+&amp\;]:mt-1" data-message-author-role="assistant" data-message-id="83716ce8-f8e1-42be-bc37-311f6c461ba5" data-message-model-slug="gpt-5-1" dir="auto">\n<div class="flex w-full flex-col gap-1 empty:hidden first:pt-[1px]">\n<div class="markdown prose dark:prose-invert w-full break-words light markdown-new-styling">\n<p data-end="641" data-start="83"><span style="font-size:18px\;">Join us for an evening of networking\, connection\, and community at our Business After Hours event\, hosted by The Waters at Freeport! Mix and mingle with fellow professionals\, build valuable business relationships\, and enjoy a relaxed atmosphere with great food and drinks. This month&rsquo\;s event comes with extra treats&mdash\;enjoy a full chili bar with a variety of toppings\, sweet treats\, coffee with multiple creamer options\, and a selection of alcoholic and non-alcoholic beverages. Plus\, don&rsquo\;t miss your chance to win a $100 gift card to The Freeport House Spa.</span></p>\n\n<p data-end="744" data-start="643"><span style="font-size:18px\;">&#128197\; November 20\, 2025<br data-end="666" data-start="663" />\n&#9200\; 4:30 p.m.<br data-end="680" data-start="677" />\n&#128205\; The Waters at Freeport\, 185 Marquis Way\, Freeport\, FL 32439</span></p>\n\n<p data-end="834" data-is-last-node="" data-is-only-node="" data-start="746"><span style="font-size:18px\;">We can&rsquo\;t wait to see you there for an evening of fun\, flavor\, and fantastic connections!</span></p>\n</div>\n</div>\n</div>\n</div>\n\n<div class="z-0 flex min-h-[46px] justify-start">&nbsp\;</div>\n\n<div class="mt-3 w-full empty:hidden">\n<div class="text-center">&nbsp\;</div>\n</div>\n</div>\n</div>\n</article>\n\n<div aria-hidden="true" class="pointer-events-none h-px w-px" data-edge="true">&nbsp\;</div>\n
LOCATION:The Waters at Freeport\, 185 Marquis Way\, Freeport\, FL\, 32439
UID:e.885.55005
SEQUENCE:3
DTSTAMP:20260422T155729Z
URL:https://business.waltonareachamber.com/events/details/november-2025-business-after-hours-hosted-by-the-waters-at-freeport-55005
END:VEVENT

END:VCALENDAR
