BEGIN:VCALENDAR
VERSION:2.0
PRODID:-//ChamberMaster//Event Calendar 2.0//EN
METHOD:PUBLISH
X-PUBLISHED-TTL:P3D
REFRESH-INTERVAL:P3D
CALSCALE:GREGORIAN
BEGIN:VEVENT
DTSTART:20210918T000000Z
DTEND:20210919T023000Z
X-MICROSOFT-CDO-ALLDAYEVENT:FALSE
SUMMARY:One Ocean Film Tour
DESCRIPTION:Adventure. Marine Life. Conservation. Enjoy a night of inspiring ocean themed films under the stars. Choose from Friday or Saturday night. The same exciting stories will be shown each night! Attendees are invited to bring low back chairs or blankets for a night of inspiring films under the stars. Food and beverage will not be sold onsite. Coolers are permitted. Tickets are limited\, non -refundable and could sell out. Event is rain or shine.
X-ALT-DESC;FMTTYPE=text/html:Adventure. Marine Life. Conservation. Enjoy a night of inspiring ocean themed films under the stars. Choose from Friday or Saturday night. The same exciting stories will be shown each night! Attendees are invited to bring low back chairs or blankets for a night of inspiring films under the stars. Food and beverage will not be sold onsite. Coolers are permitted. Tickets are limited\, non -refundable and could sell out. Event is rain or shine.
LOCATION:Watersound Origins Village Commons 530 Pathways Drive\, Watersound\, FL 32461
UID:e.885.32406
SEQUENCE:3
DTSTAMP:20260423T010627Z
URL:https://business.waltonareachamber.com/events/details/one-ocean-film-tour-32406
END:VEVENT

END:VCALENDAR
