BEGIN:VCALENDAR
VERSION:2.0
PRODID:-//ChamberMaster//Event Calendar 2.0//EN
METHOD:PUBLISH
X-PUBLISHED-TTL:P3D
REFRESH-INTERVAL:P3D
CALSCALE:GREGORIAN
BEGIN:VEVENT
DTSTART:20220317T200000Z
DTEND:20220317T230000Z
X-MICROSOFT-CDO-ALLDAYEVENT:FALSE
SUMMARY:Open Gallery Night for Real Estate Agents
DESCRIPTION:Attention Real Estate Agents! You are invited to a special "Open Gallery" event at J. Leon Gallery + Studio. Enjoy complimentary wine\, champagne\, and delicious hors d'oeuvres prepared by The Board Chef. Get the chance to view work from artists both regionally and from the local area - including painters\, mixed media artists\, ceramics artists\, sculptors\, and illustrators. Bring your friends in the industry and your clients to tour the gallery and fully functioning ceramics studio.
X-ALT-DESC;FMTTYPE=text/html:Attention Real Estate Agents! You are invited to a special &ldquo\;Open Gallery&rdquo\; event at J. Leon Gallery + Studio. Enjoy complimentary wine\, champagne\, and delicious hors d&#39\;oeuvres prepared by The Board Chef. Get the chance to view work from artists both regionally and from the local area - including painters\, mixed media artists\, ceramics artists\, sculptors\, and illustrators. Bring your friends in the industry and your clients to tour the gallery and fully functioning ceramics studio.
LOCATION:J.Leon Gallery and Studio
UID:e.885.33334
SEQUENCE:3
DTSTAMP:20260423T111502Z
URL:https://business.waltonareachamber.com/events/details/open-gallery-night-for-real-estate-agents-33334
END:VEVENT

END:VCALENDAR
