BEGIN:VCALENDAR
VERSION:2.0
PRODID:-//ChamberMaster//Event Calendar 2.0//EN
METHOD:PUBLISH
X-PUBLISHED-TTL:P3D
REFRESH-INTERVAL:P3D
CALSCALE:GREGORIAN
BEGIN:VEVENT
DTSTART:20220224T220000Z
DTEND:20220225T000000Z
X-MICROSOFT-CDO-ALLDAYEVENT:FALSE
SUMMARY:Open House Celebration Angie Resiak
DESCRIPTION:Please join as Angie Resiak celebrates her move to Engel and Volkers! There will be lite bites\, beer and wine.   Stop by anytime between 4-6.
X-ALT-DESC;FMTTYPE=text/html:Please join as Angie Resiak celebrates her move to Engel and Volkers! There will be lite bites\, beer and wine.&nbsp\; &nbsp\;Stop by anytime between 4-6.
LOCATION:
UID:e.885.33319
SEQUENCE:3
DTSTAMP:20260423T094624Z
URL:https://business.waltonareachamber.com/events/details/open-house-celebration-angie-resiak-33319
END:VEVENT

END:VCALENDAR
