BEGIN:VCALENDAR
VERSION:2.0
PRODID:-//ChamberMaster//Event Calendar 2.0//EN
METHOD:PUBLISH
X-PUBLISHED-TTL:P3D
REFRESH-INTERVAL:P3D
CALSCALE:GREGORIAN
BEGIN:VEVENT
DTSTART:20210521T220000Z
DTEND:20210521T230000Z
X-MICROSOFT-CDO-ALLDAYEVENT:FALSE
SUMMARY:Original 30A Ribbon Cutting
DESCRIPTION:Join us for a ribbon cutting ceremony for Original 30A! The ribbon cutting ceremony will commence at 5:15 p.m.\n\n\n\nThere will be a full buffet and bar! We can't wait to see you there!
X-ALT-DESC;FMTTYPE=text/html:<span style="font-size:14px\;"><span style="font-family:arial\;">Join us for a ribbon cutting ceremony for Original 30A! The ribbon cutting ceremony will commence at 5:15 p.m.<br />\n<br />\nThere will be a full buffet and bar! We can&#39\;t wait to see you there!</span></span>
LOCATION:5399 E County Hwy 30A\, Suite 7\, Seagrove\, FL 32459
UID:e.885.30081
SEQUENCE:3
DTSTAMP:20260422T142430Z
URL:https://business.waltonareachamber.com/events/details/original-30a-ribbon-cutting-30081
END:VEVENT

END:VCALENDAR
