BEGIN:VCALENDAR
VERSION:2.0
PRODID:-//ChamberMaster//Event Calendar 2.0//EN
METHOD:PUBLISH
X-PUBLISHED-TTL:P3D
REFRESH-INTERVAL:P3D
CALSCALE:GREGORIAN
BEGIN:VEVENT
DTSTART:20220326T163000Z
DTEND:20220326T193000Z
X-MICROSOFT-CDO-ALLDAYEVENT:FALSE
SUMMARY:Paint Your Own Pottery with MJ
DESCRIPTION:Come on in to our Ceramics Studio and Paint Your Own Pottery with artist and teacher MJ! Students will have fun being creative with underglazes as they glaze a piece of pre-made pottery\, using various colors and application methods. No experience needed\, beginners welcome! Enjoy an afternoon of design\, color\, and fun- as you relax and unwind with a paintbrush and the pottery.
X-ALT-DESC;FMTTYPE=text/html:Come on in to our Ceramics Studio and Paint Your Own Pottery with artist and teacher MJ! Students will have fun being creative with underglazes as they glaze a piece of pre-made pottery\, using various colors and application methods. No experience needed\, beginners welcome! Enjoy an afternoon of design\, color\, and fun- as you relax and unwind with a paintbrush and the pottery.
LOCATION:J.Leon Gallery and Studio
UID:e.885.33616
SEQUENCE:3
DTSTAMP:20260423T124212Z
URL:https://business.waltonareachamber.com/events/details/paint-your-own-pottery-with-mj-33616
END:VEVENT

END:VCALENDAR
