BEGIN:VCALENDAR
VERSION:2.0
PRODID:-//ChamberMaster//Event Calendar 2.0//EN
METHOD:PUBLISH
X-PUBLISHED-TTL:P3D
REFRESH-INTERVAL:P3D
CALSCALE:GREGORIAN
BEGIN:VEVENT
DTSTART:20220729T163000Z
DTEND:20220729T180000Z
X-MICROSOFT-CDO-ALLDAYEVENT:FALSE
SUMMARY:Paws in Paradise Animal Hospital\, PLLC. Ribbon Cutting
DESCRIPTION:The Walton Area Chamber is excited to partner with the Panama City Beach Chamber of Commerce to celebrate the Grand Opening and Ribbon Cutting for Paws in Paradise Animal Hospital on July 29th from 11:30-1:00.
X-ALT-DESC;FMTTYPE=text/html:The Walton Area Chamber is excited to partner with the Panama City Beach Chamber of Commerce to celebrate the Grand Opening and Ribbon Cutting for Paws in Paradise Animal Hospital on July 29th from 11:30-1:00.&nbsp\;
LOCATION:Paws in Paradise Animal Hospital\, PLLC. 13123 East Emerald Coast Pkwy Suite D\, Inlet Beach\, FL 32413
UID:e.885.33946
SEQUENCE:3
DTSTAMP:20260423T170838Z
URL:https://business.waltonareachamber.com/events/details/paws-in-paradise-animal-hospital-pllc-ribbon-cutting-33946
END:VEVENT

END:VCALENDAR
