BEGIN:VCALENDAR
VERSION:2.0
PRODID:-//ChamberMaster//Event Calendar 2.0//EN
METHOD:PUBLISH
X-PUBLISHED-TTL:P3D
REFRESH-INTERVAL:P3D
CALSCALE:GREGORIAN
BEGIN:VEVENT
DTSTART:20211110T160000Z
DTEND:20211110T190000Z
X-MICROSOFT-CDO-ALLDAYEVENT:FALSE
SUMMARY:Paychecks for Patriots Job Fair Hiring Event for Veterans
DESCRIPTION:Paychecks for Patriots Job Fair Hiring Event for Veterans
X-ALT-DESC;FMTTYPE=text/html:Paychecks for Patriots Job Fair Hiring Event for Veterans
LOCATION:409 Racetrack Road NE\, Fort Walton Beach
UID:e.885.32627
SEQUENCE:3
DTSTAMP:20260423T063754Z
URL:https://business.waltonareachamber.com/events/details/paychecks-for-patriots-job-fair-hiring-event-for-veterans-32627
END:VEVENT

END:VCALENDAR
