BEGIN:VCALENDAR
VERSION:2.0
PRODID:-//ChamberMaster//Event Calendar 2.0//EN
METHOD:PUBLISH
X-PUBLISHED-TTL:P3D
REFRESH-INTERVAL:P3D
CALSCALE:GREGORIAN
BEGIN:VEVENT
DTSTART:20210515T150000Z
DTEND:20210516T000000Z
X-MICROSOFT-CDO-ALLDAYEVENT:FALSE
SUMMARY:Poker Run - Legendary Marine
DESCRIPTION:Grab your boat and join Legendary Marine for their 6th Annual Billy Bowlegs Poker Run this Saturday\, May 15th.\n\n\n \n\n\n	Explore the best stops on the Emerald Coast\, and try your hand in the Poker Party at Lulu's Restaurant. The Captain's Party will be held Friday night at the Legendary Yacht Club.\n\n\n \n\n\n	Entry Cost: $100 per entry. This includes 1 registration\, 1 hand of poker\, admission for 2 to the Captain's Party\, a swag bag\, & 1 event t-shirt (multiple entries allowed per boat).\n\n\n \n\n\n	All proceeds benefit the Emerald Coast Autism Center and William Augustus Bowles Foundation.\n\n\n \n\n\n	Register here: http://bit.ly/bbpr2021
X-ALT-DESC;FMTTYPE=text/html:<ul style="color: rgb(50\, 49\, 48)\; font-family: &quot\;Segoe UI&quot\;\, &quot\;Segoe UI Web (West European)&quot\;\, &quot\;Segoe UI&quot\;\, -apple-system\, BlinkMacSystemFont\, Roboto\, &quot\;Helvetica Neue&quot\;\, sans-serif\; font-size: 15px\; margin-top: 0px\; margin-bottom: 0px\;" type="disc">\n	<li style="font-size: 11pt\; font-family: Calibri\, sans-serif\; margin: 0px\;"><span style="font-size:14px\;"><span style="font-family:arial\;">Grab your boat and join Legendary Marine for their 6<sup>th</sup>&nbsp\;Annual Billy Bowlegs Poker Run this Saturday\, May 15th.</span></span></li>\n</ul>\n\n<p style="color: rgb(50\, 49\, 48)\; font-size: 11pt\; font-family: Calibri\, sans-serif\; margin: 0px\;">&nbsp\;</p>\n\n<ul style="color: rgb(50\, 49\, 48)\; font-family: &quot\;Segoe UI&quot\;\, &quot\;Segoe UI Web (West European)&quot\;\, &quot\;Segoe UI&quot\;\, -apple-system\, BlinkMacSystemFont\, Roboto\, &quot\;Helvetica Neue&quot\;\, sans-serif\; font-size: 15px\; margin-top: 0px\; margin-bottom: 0px\;" type="disc">\n	<li style="font-size: 11pt\; font-family: Calibri\, sans-serif\; margin: 0px\;"><span style="font-size:14px\;"><span style="font-family:arial\;">Explore the best stops on the Emerald Coast\, and try your hand in the Poker Party at Lulu&#39\;s Restaurant. The Captain&rsquo\;s Party will be held Friday night at the Legendary Yacht Club.</span></span></li>\n</ul>\n\n<p style="color: rgb(50\, 49\, 48)\; font-size: 11pt\; font-family: Calibri\, sans-serif\; margin: 0px\;">&nbsp\;</p>\n\n<ul style="color: rgb(50\, 49\, 48)\; font-family: &quot\;Segoe UI&quot\;\, &quot\;Segoe UI Web (West European)&quot\;\, &quot\;Segoe UI&quot\;\, -apple-system\, BlinkMacSystemFont\, Roboto\, &quot\;Helvetica Neue&quot\;\, sans-serif\; font-size: 15px\; margin-top: 0px\; margin-bottom: 0px\;" type="disc">\n	<li style="font-size: 11pt\; font-family: Calibri\, sans-serif\; margin: 0px\;"><span style="font-size:14px\;"><span style="font-family:arial\;">Entry Cost: $100 per entry. This includes 1 registration\, 1 hand of poker\, admission for 2 to the Captain&rsquo\;s Party\, a swag bag\, &amp\; 1 event t-shirt (multiple entries allowed per boat).</span></span></li>\n</ul>\n\n<p style="color: rgb(50\, 49\, 48)\; font-size: 11pt\; font-family: Calibri\, sans-serif\; margin: 0px\;">&nbsp\;</p>\n\n<ul style="color: rgb(50\, 49\, 48)\; font-family: &quot\;Segoe UI&quot\;\, &quot\;Segoe UI Web (West European)&quot\;\, &quot\;Segoe UI&quot\;\, -apple-system\, BlinkMacSystemFont\, Roboto\, &quot\;Helvetica Neue&quot\;\, sans-serif\; font-size: 15px\; margin-top: 0px\; margin-bottom: 0px\;" type="disc">\n	<li style="font-size: 11pt\; font-family: Calibri\, sans-serif\; margin: 0px\;"><span style="font-size:14px\;"><span style="font-family:arial\;">All proceeds benefit the Emerald Coast Autism Center and William Augustus Bowles Foundation.</span></span></li>\n</ul>\n\n<p style="color: rgb(50\, 49\, 48)\; font-size: 11pt\; font-family: Calibri\, sans-serif\; margin: 0px\;">&nbsp\;</p>\n\n<ul style="color: rgb(50\, 49\, 48)\; font-family: &quot\;Segoe UI&quot\;\, &quot\;Segoe UI Web (West European)&quot\;\, &quot\;Segoe UI&quot\;\, -apple-system\, BlinkMacSystemFont\, Roboto\, &quot\;Helvetica Neue&quot\;\, sans-serif\; font-size: 15px\; margin-top: 0px\; margin-bottom: 0px\;" type="disc">\n	<li style="color: rgb(112\, 173\, 71)\; font-size: 11pt\; font-family: Calibri\, sans-serif\; margin: 0px\;"><span style="font-size:14px\;"><span style="font-family:arial\;"><span style="margin: 0px\; padding: 0px\; border: 0px\; font-style: inherit\; font-variant: inherit\; font-weight: inherit\; font-stretch: inherit\; line-height: inherit\; vertical-align: baseline\; color: inherit\;">Register here:&nbsp\;<a data-auth="NotApplicable" data-linkindex="0" href="https://bit.ly/bbpr2021?fbclid=IwAR1WVjHA1G7vCKp5UwRwPnhm3WGIiZETxaFUXPwdfjHP7ui985B7iVHMK54" rel="noopener noreferrer" style="margin: 0px\; padding: 0px\; border: 0px\; font: inherit\; vertical-align: baseline\;" target="_blank"><span style="margin: 0px\; padding: 0px\; border: 1pt none windowtext\; font-style: inherit\; font-variant: inherit\; font-weight: inherit\; font-stretch: inherit\; line-height: inherit\; vertical-align: baseline\; color: rgb(112\, 173\, 71)\; text-decoration-line: none\;">http://bit.ly/bbpr2021</span></a></span></span></span></li>\n</ul>\n
LOCATION:
UID:e.885.31106
SEQUENCE:3
DTSTAMP:20260422T142436Z
URL:https://business.waltonareachamber.com/events/details/poker-run-legendary-marine-31106
END:VEVENT

END:VCALENDAR
