BEGIN:VCALENDAR
VERSION:2.0
PRODID:-//ChamberMaster//Event Calendar 2.0//EN
METHOD:PUBLISH
X-PUBLISHED-TTL:P3D
REFRESH-INTERVAL:P3D
CALSCALE:GREGORIAN
BEGIN:VEVENT
DTSTART:20130410T163000Z
DTEND:20130410T183000Z
X-MICROSOFT-CDO-ALLDAYEVENT:FALSE
SUMMARY:Power of Business Lunch
DESCRIPTION:Our Power of Business Luncheon is sponsored by Brannon and Brannon and will feature as a guest speaker Rahul Razdan\, the founder of Ocoos.com.  The RSB Initiative (Reinventing Small Business) is a partnership between the Chamber of Commerce and Ocoos.com designed to provide members with the best resources and education around the world of Internet Marketing\, Web Presence\, and cloud Business Tools. Through the initiative\, members will be able to build a complete online presence\, schedule clients online\, take payment online\, and manage their clients/sales/social media all from one place. More importantly\, they will be taught how to better interact with today's modern consumer.
X-ALT-DESC;FMTTYPE=text/html:<span style="font-size: 14px\;"><span style="font-family: arial\;"><span style="font-family: times new roman\;">Our Power of Business Luncheon is sponsored by Brannon and Brannon and will feature as a guest speaker Rahul Razdan\, the founder of Ocoos.com.</span>&nbsp\; <span style="font-family: times new roman\;">The RSB Initiative (Reinventing Small Business)&nbsp\;is a partnership between the Chamber of Commerce and Ocoos.com designed to provide members with the best resources and education around the world of Internet Marketing\, Web Presence\, and cloud Business Tools. Through the initiative\, members will be able to build a complete online presence\, schedule clients online\, take payment online\, and manage their clients/sales/social media all from one place. More importantly\, they will be taught how to better interact with today&rsquo\;s modern consumer.&nbsp\;&nbsp\;</span></span></span><br />\n
LOCATION:Linkside Sandestin
UID:e.885.8756
SEQUENCE:3
DTSTAMP:20260425T005535Z
URL:https://business.waltonareachamber.com/events/details/power-of-business-lunch-04-10-2013-8756
END:VEVENT

END:VCALENDAR
