BEGIN:VCALENDAR
VERSION:2.0
PRODID:-//ChamberMaster//Event Calendar 2.0//EN
METHOD:PUBLISH
X-PUBLISHED-TTL:P3D
REFRESH-INTERVAL:P3D
CALSCALE:GREGORIAN
BEGIN:VEVENT
DTSTART:20160406T163000Z
DTEND:20160406T180000Z
X-MICROSOFT-CDO-ALLDAYEVENT:FALSE
SUMMARY:Power of Business Luncheon: Real Estate
DESCRIPTION:Join us on April 6\, 2016 for our Real Estate themed Power of Business Luncheon\, sponsored by Century 21 Blue Marlin!\n\n\n\nOur program will be a panel discussion covering our area's current marketing and predicted trends. Our featured panelists are:\n\n\n\nJerry Sullivan\n\nBroker/Owner\n\nCentury 21 Blue Marlin\n\n\n\nJordan Dennis\n\nRealtor\n\n\n\nDoreen Baca\n\nCommercial Realtor\n\n\n\nRick Ellis\n\nCentury 21 Corporate\n\n\n\nVictoria Hughes\n\nRealtor
X-ALT-DESC;FMTTYPE=text/html:<div style="text-align: center\;"><span style="font-size:14px\;"><span style="font-family: arial\;">Join us on April 6\, 2016 for our Real Estate themed Power of Business Luncheon\, sponsored by&nbsp\;</span></span><span style="font-family: Arial\, Helvetica\, sans-serif\; font-size: 12px\; line-height: 18px\;"><span style="font-size:14px\;"><span style="font-family: arial\;">Century 21 Blue Marlin!</span></span><br />\n<br />\n<span style="font-size:14px\;"><span style="font-family: arial\;">Our program will be a panel discussion covering</span></span></span> <span style="font-size:14px\;"><span style="font-family: arial\;">our area&#39\;s current marketing and predicted trends</span></span>.<span style="font-family: Arial\, Helvetica\, sans-serif\; font-size: 12px\; line-height: 18px\;"><span style="font-size:14px\;"><span style="font-family: arial\;"> Our featured panelists are:<br />\n<br />\nJerry Sullivan<br />\nBroker/Owner<br />\nCentury 21 Blue Marlin<br />\n<br />\nJordan Dennis<br />\nRealtor</span></span></span><br />\n<br />\n<span style="font-size:14px\;"><span style="font-family: arial\;">Doreen Baca<br />\nCommercial Realtor<br />\n<br />\nRick Ellis<br />\nCentury 21 Corporate<br />\n<br />\nVictoria Hughes<br />\nRealtor</span></span></div>\n
LOCATION:Coral Ballroom Hilton Sandestin Beach Golf Resort & Spa 4000 S Sandestin Blvd\, Miramar Beach\, FL 32550
UID:e.885.11709
SEQUENCE:3
DTSTAMP:20260424T070413Z
URL:https://business.waltonareachamber.com/events/details/power-of-business-luncheon-real-estate-04-06-2016-11709
END:VEVENT

END:VCALENDAR
