BEGIN:VCALENDAR
VERSION:2.0
PRODID:-//ChamberMaster//Event Calendar 2.0//EN
METHOD:PUBLISH
X-PUBLISHED-TTL:P3D
REFRESH-INTERVAL:P3D
CALSCALE:GREGORIAN
BEGIN:VEVENT
DTSTART:20230314T120000Z
DTEND:20230314T140000Z
X-MICROSOFT-CDO-ALLDAYEVENT:FALSE
SUMMARY:Professionals’ Grab-and-Go Breakfast
DESCRIPTION:We respect your time and value your contribution to our community. That's why we're partnering with local breakfast spot\, Canopy Road Caf \, to apologize for the system glitch that hindered so many of you from attending our last event. Canopy Road Caf  will be providing delicious grab-and-go breakfast items to help start your day on a positive note. For those with a little more time\, you're welcome to dine-in and chat with us at the caf    we're always happy to see you. Please email or call Allyson Anger at 850-846-3900 if you plan on stopping by. Again\, please accept our sincerest apologies. We hope you'll take advantage of this small token of our appreciation and stop by to see us again soon\,
X-ALT-DESC;FMTTYPE=text/html:We respect your time and value your contribution to our community. That&rsquo\;s why we&rsquo\;re partnering with local breakfast spot\, Canopy Road Caf&eacute\;\, to apologize for the system glitch that hindered so many of you from attending our last event. Canopy Road Caf&eacute\; will be providing delicious grab-and-go breakfast items to help start your day on a positive note. For those with a little more time\, you&rsquo\;re welcome to dine-in and chat with us at the caf&eacute\; &ndash\; we&rsquo\;re always happy to see you. Please email or call Allyson Anger at 850-846-3900 if you plan on stopping by. Again\, please accept our sincerest apologies. We hope you&rsquo\;ll take advantage of this small token of our appreciation and stop by to see us again soon\,
LOCATION:Canopy Road Caf \, 12805 US-98\, Inlet Beach\, FL 32413
UID:e.885.34388
SEQUENCE:3
DTSTAMP:20260424T051809Z
URL:https://business.waltonareachamber.com/events/details/professionals-grab-and-go-breakfast-34388
END:VEVENT

END:VCALENDAR
