BEGIN:VCALENDAR
VERSION:2.0
PRODID:-//ChamberMaster//Event Calendar 2.0//EN
METHOD:PUBLISH
X-PUBLISHED-TTL:P3D
REFRESH-INTERVAL:P3D
CALSCALE:GREGORIAN
BEGIN:VEVENT
DTSTART:20260420T200000Z
DTEND:20260420T210000Z
X-MICROSOFT-CDO-ALLDAYEVENT:FALSE
SUMMARY:Rainforest Black Light Golf & Arcade Ribbon Cutting
DESCRIPTION:Join us as we celebrate the expansion of Rainforest Black Light Golf & Arcade with an official Ribbon Cutting Ceremony. This exciting milestone marks continued growth for this fun and family-friendly entertainment destination in Miramar Beach. Their expansion reflects their commitment to providing an engaging and unique experience for both locals and visitors.\n\nThis is a family-friendly event\, so bring your family and kids to join in the celebration and experience the fun.\n\nCome connect with fellow Chamber members\, meet the team behind Rainforest Black Light Golf & Arcade\, and help us celebrate this exciting new chapter of growth.\n\n  Date: April 20\, 2026\n\n  Event Time: 3:00   4:00 PM\n\n   Ribbon Cutting Time: 3:00 PM\n\n  Location: 11394 US Hwy 98 W\, Unit D\, Miramar Beach\, FL 32550\n\nLight refreshments will be provided\, including Chick-fil-A\, fruit\, and beverages.\n\nWe look forward to celebrating this expansion and supporting another growing business in our community.
X-ALT-DESC;FMTTYPE=text/html:<p data-end="461" data-start="99">Join us as we celebrate the expansion of Rainforest Black Light Golf &amp\; Arcade with an official Ribbon Cutting Ceremony. This exciting milestone marks continued growth for this fun and family-friendly entertainment destination in Miramar Beach. Their expansion reflects their commitment to providing an engaging and unique experience for both locals and visitors.</p>\n\n<p data-end="576" data-start="463">This is a family-friendly event\, so bring your family and kids to join in the celebration and experience the fun.</p>\n\n<p data-end="737" data-start="578">Come connect with fellow Chamber members\, meet the team behind Rainforest Black Light Golf &amp\; Arcade\, and help us celebrate this exciting new chapter of growth.</p>\n\n<p data-end="895" data-start="739">&#128197\; Date: April 20\, 2026<br data-end="765" data-start="762" />\n&#9200\; Event Time: 3:00 &ndash\; 4:00 PM<br data-end="796" data-start="793" />\n&#9986\;&#65039\; Ribbon Cutting Time: 3:00 PM<br data-end="830" data-start="827" />\n&#128205\; Location: 11394 US Hwy 98 W\, Unit D\, Miramar Beach\, FL 32550</p>\n\n<p data-end="978" data-start="897">Light refreshments will be provided\, including Chick-fil-A\, fruit\, and beverages.</p>\n\n<p data-end="1083" data-is-last-node="" data-is-only-node="" data-start="980">We look forward to celebrating this expansion and supporting another growing business in our community.</p>\n
LOCATION:Location: 11394 US Hwy 98 W\, Unit D\, Miramar Beach\, FL 32550
UID:e.885.56750
SEQUENCE:3
DTSTAMP:20260422T080053Z
URL:https://business.waltonareachamber.com/events/details/rainforest-black-light-golf-arcade-ribbon-cutting-56750
END:VEVENT

END:VCALENDAR
