BEGIN:VCALENDAR
VERSION:2.0
PRODID:-//ChamberMaster//Event Calendar 2.0//EN
METHOD:PUBLISH
X-PUBLISHED-TTL:P3D
REFRESH-INTERVAL:P3D
CALSCALE:GREGORIAN
BEGIN:VEVENT
DTSTART:20240705T000000Z
DTEND:20240705T021500Z
X-MICROSOFT-CDO-ALLDAYEVENT:FALSE
SUMMARY:Red\, White & Baytowne
DESCRIPTION:Join us this 4th of July for our spectacular Red\, White\, and Baytowne celebration! Enjoy LIVE music from Below Alabama on the Events Plaza Stage from 7:00-9:15pm\, followed by a fireworks display that will light up the night sky at 9:15pm. The Village of Baytowne Wharf will also host kids' activities including kids crafts\, face painting\, and balloon sculpting.
X-ALT-DESC;FMTTYPE=text/html:<span style="color:#40454A"><span style="font-family:arial\,sans-serif">Join us this 4th of July for our spectacular Red\, White\, and Baytowne celebration! Enjoy LIVE music from Below Alabama on the Events Plaza Stage from 7:00-9:15pm\, followed by a fireworks display that will light up the night sky at 9:15pm. The Village of Baytowne Wharf will also host kids&rsquo\; activities including kids crafts\, face painting\, and balloon sculpting.</span></span>
LOCATION:The Village of Baytowne Wharf 9100 Baytowne Boulevard Miramar Beach\, FL 32550
UID:e.885.41342
SEQUENCE:3
DTSTAMP:20260425T170350Z
URL:https://business.waltonareachamber.com/events/details/red-white-baytowne-07-04-2024-41342
END:VEVENT

END:VCALENDAR
