BEGIN:VCALENDAR
VERSION:2.0
PRODID:-//ChamberMaster//Event Calendar 2.0//EN
METHOD:PUBLISH
X-PUBLISHED-TTL:P3D
REFRESH-INTERVAL:P3D
CALSCALE:GREGORIAN
BEGIN:VEVENT
DTSTART:20210520T210000Z
DTEND:20210521T010000Z
X-MICROSOFT-CDO-ALLDAYEVENT:FALSE
SUMMARY:Reverie 365: A Celebration of Success
DESCRIPTION:We invite you to come celebrate Corcoran Reverie's one year anniversary!\n\n\n\nEnjoy an evening complete with live performances from Yacht Rock Schooner Trio\, a silent auction benefiting The Sonder Project\, small bites and drinks\, and much more.  The event will be catered by Plate to Plate and desserts provided by Sugar & Heart Bakery.\n\n\n\nRSVP at www.reveriersvp.com
X-ALT-DESC;FMTTYPE=text/html:<div>We invite you to come celebrate Corcoran Reverie&#39\;s one year anniversary!<br />\n<br />\n<strong>Enjoy an evening complete with live performances from Yacht Rock Schooner Trio\, a silent auction benefiting The Sonder Project\, small bites and drinks\, and much more.&nbsp\; </strong>The event will be catered by Plate to Plate and desserts provided by Sugar &amp\; Heart Bakery.</div>\n\n<div><br />\nRSVP at <a class="oajrlxb2 g5ia77u1 qu0x051f esr5mh6w e9989ue4 r7d6kgcz rq0escxv nhd2j8a9 nc684nl6 p7hjln8o kvgmc6g5 cxmmr5t8 oygrvhab hcukyx3x jb3vyjys rz4wbd8a qt6c0cv9 a8nywdso i1ao9s8h esuyzwwr f1sip0of lzcic4wl py34i1dx gpro0wi8" href="http://www.reveriersvp.com/?fbclid=IwAR13vgUctCLWJXoE5Q7cXo1wcW9hCXNPzqvnerKyI6NAz1kCKCy804zH-X8" rel="nofollow noopener" tabindex="0" target="_blank">www.reveriersvp.com</a></div>\n
LOCATION:Corcoran Reverie 4042 East Coast Highway 30A Seagrove Beach\, FL 32459
UID:e.885.31103
SEQUENCE:3
DTSTAMP:20260422T142757Z
URL:https://business.waltonareachamber.com/events/details/reverie-365-a-celebration-of-success-31103
END:VEVENT

END:VCALENDAR
