BEGIN:VCALENDAR
VERSION:2.0
PRODID:-//ChamberMaster//Event Calendar 2.0//EN
METHOD:PUBLISH
X-PUBLISHED-TTL:P3D
REFRESH-INTERVAL:P3D
CALSCALE:GREGORIAN
BEGIN:VEVENT
DTSTART:20220323T180000Z
DTEND:20220323T200000Z
X-MICROSOFT-CDO-ALLDAYEVENT:FALSE
SUMMARY:Ribbon Cutting and Grand Opening
DESCRIPTION:Please join us for the Grand Opening and Ribbon Cutting of Outcast Seafood!  The ribbon will be cut at 1:00 and there will be a buy one get one free special for all attendees until 3:00.
X-ALT-DESC;FMTTYPE=text/html:Please join us for the Grand Opening and Ribbon Cutting of Outcast Seafood!&nbsp\; The ribbon will be cut at 1:00 and there will be a buy one get one free special for all attendees until 3:00.&nbsp\;
LOCATION:10859 Emerald Coast Highway Suite 404 Miramar Beach FL 32550
UID:e.885.33554
SEQUENCE:3
DTSTAMP:20260423T111637Z
URL:https://business.waltonareachamber.com/events/details/ribbon-cutting-and-grand-opening-33554
END:VEVENT

END:VCALENDAR
