BEGIN:VCALENDAR
VERSION:2.0
PRODID:-//ChamberMaster//Event Calendar 2.0//EN
METHOD:PUBLISH
X-PUBLISHED-TTL:P3D
REFRESH-INTERVAL:P3D
CALSCALE:GREGORIAN
BEGIN:VEVENT
DTSTART:20210408T213000Z
DTEND:20210408T230000Z
X-MICROSOFT-CDO-ALLDAYEVENT:FALSE
SUMMARY:Ribbon Cutting and Grand Opening for Legendary Marine
DESCRIPTION:Join us for a grand opening and ribbon cutting for Legendary Marine in Miramar Beach! The ribbon cutting commences at 4:30 p.m. with the event starting thereafter at 5:00 p.m. We can't wait to see you there!
X-ALT-DESC;FMTTYPE=text/html:<span style="font-size:14px\;"><span style="font-family:arial\;">Join us for a grand opening and ribbon cutting for Legendary Marine in Miramar Beach! The ribbon cutting commences at 4:30 p.m. with the event starting thereafter at 5:00 p.m. We can&#39\;t wait to see you there!</span></span>
LOCATION:8330 Mike Hayes Dr. Miramar Beach\, FL 32550
UID:e.885.29411
SEQUENCE:3
DTSTAMP:20260422T125803Z
URL:https://business.waltonareachamber.com/events/details/ribbon-cutting-and-grand-opening-for-legendary-marine-29411
END:VEVENT

END:VCALENDAR
