BEGIN:VCALENDAR
VERSION:2.0
PRODID:-//ChamberMaster//Event Calendar 2.0//EN
METHOD:PUBLISH
X-PUBLISHED-TTL:P3D
REFRESH-INTERVAL:P3D
CALSCALE:GREGORIAN
BEGIN:VEVENT
DTSTART:20251201T150000Z
DTEND:20251201T170000Z
X-MICROSOFT-CDO-ALLDAYEVENT:FALSE
SUMMARY:Ribbon Cutting: Beignets & Brew – Grayton Beach
DESCRIPTION:Ribbon Cutting: Beignets & Brew   Grayton Beach\n\nJoin us as we celebrate the grand opening of Beignets & Brew   Grayton Beach! Stop by to enjoy complimentary beignet and coffee samples while exploring this charming new addition to the community. This welcoming caf  offers a warm\, inviting space for locals and visitors alike to relax\, connect\, and savor handcrafted treats.\n\n\n\n  32 East County Highway 30A\, Suite 102\, Santa Rosa Beach\n\n  December 1\, 2025\n\n  9:00 AM   11:00 AM\n\n  Ribbon Cutting at 9:00 AM\n\nWe look forward to celebrating this exciting new business and hope to see you there!
X-ALT-DESC;FMTTYPE=text/html:<h3 data-end="122" data-start="65"><strong data-end="120" data-start="69">Ribbon Cutting: Beignets &amp\; Brew &ndash\; Grayton Beach</strong></h3>\n\n<p data-end="589" data-start="260">Join us as we celebrate the grand opening of <strong data-end="340" data-start="305">Beignets &amp\; Brew &ndash\; Grayton Beach</strong>! Stop by to enjoy complimentary beignet and coffee samples while exploring this charming new addition to the community. This welcoming caf&eacute\; offers a warm\, inviting space for locals and visitors alike to relax\, connect\, and savor handcrafted treats.<br />\n<br />\n&#128205\; <strong data-end="196" data-start="137">32 East County Highway 30A\, Suite 102\, Santa Rosa Beach</strong><br data-end="199" data-start="196" />\n&#128197\; <strong data-end="222" data-start="202">December 1\, 2025</strong><br data-end="225" data-start="222" />\n&#9200\; <strong data-end="249" data-start="227">9:00 AM &ndash\; 11:00 AM</strong><br data-end="252" data-start="249" />\n&#127872\; <strong data-end="284" data-start="255">Ribbon Cutting at 9:00 AM</strong></p>\n\n<p data-end="675" data-is-last-node="" data-is-only-node="" data-start="591">We look forward to celebrating this exciting new business and hope to see you there!</p>\n
LOCATION:32 East County Highway 30A\, Suite 102\, Santa Rosa Beach
UID:e.885.56119
SEQUENCE:3
DTSTAMP:20260422T141802Z
URL:https://business.waltonareachamber.com/events/details/ribbon-cutting-beignets-brew-grayton-beach-56119
END:VEVENT

END:VCALENDAR
