BEGIN:VCALENDAR
VERSION:2.0
PRODID:-//ChamberMaster//Event Calendar 2.0//EN
METHOD:PUBLISH
X-PUBLISHED-TTL:P3D
REFRESH-INTERVAL:P3D
CALSCALE:GREGORIAN
BEGIN:VEVENT
DTSTART:20220301T220000Z
DTEND:20220301T223000Z
X-MICROSOFT-CDO-ALLDAYEVENT:FALSE
SUMMARY:Ribbon Cutting Elite Irrigation 30A
DESCRIPTION:Please join us as we celebrate a ribbon cutting for Elite Irrigation 30A! \n\n\n\nWith over 25 years of experience Elite Irrigation strives to provide the best quality service in the area. We are dedicated to our clients and can provide quality care for all of your irrigation and sprinkler needs. Whether you need a quick adjustment or a full diagnostic we will make sure your system is running perfectly.\n\n\n\nOur team is licensed and insured and ready to provide commercial and residential properties with a full range of services from installation to maintenance and repairs.
X-ALT-DESC;FMTTYPE=text/html:Please join us as we celebrate a ribbon cutting for Elite Irrigation 30A!&nbsp\;<br />\n<br />\nWith over 25 years of experience Elite Irrigation strives to provide the best quality service in the area. We are dedicated to our clients and can provide quality care for all of your irrigation and sprinkler needs. Whether you need a quick adjustment or a full diagnostic we will make sure your system is running perfectly.<br />\n<br />\nOur team is licensed and insured and ready to provide commercial and residential properties with a full range of services from installation to maintenance and repairs.
LOCATION:Walton Area Chamber of Commerce 63 S Centre Trail Santa Rosa Beach FL 32459
UID:e.885.33333
SEQUENCE:3
DTSTAMP:20260423T111426Z
URL:https://business.waltonareachamber.com/events/details/ribbon-cutting-elite-irrigation-30a-33333
END:VEVENT

END:VCALENDAR
